BEGIN:VCALENDAR
VERSION:2.0
PRODID:-//FRWS - ECPv6.15.17//NONSGML v1.0//EN
CALSCALE:GREGORIAN
METHOD:PUBLISH
X-WR-CALNAME:FRWS
X-ORIGINAL-URL:https://friendsofreadwildlifesanctuary.org
X-WR-CALDESC:Events for FRWS
REFRESH-INTERVAL;VALUE=DURATION:PT1H
X-Robots-Tag:noindex
X-PUBLISHED-TTL:PT1H
BEGIN:VTIMEZONE
TZID:America/New_York
BEGIN:DAYLIGHT
TZOFFSETFROM:-0500
TZOFFSETTO:-0400
TZNAME:EDT
DTSTART:20240310T070000
END:DAYLIGHT
BEGIN:STANDARD
TZOFFSETFROM:-0400
TZOFFSETTO:-0500
TZNAME:EST
DTSTART:20241103T060000
END:STANDARD
BEGIN:DAYLIGHT
TZOFFSETFROM:-0500
TZOFFSETTO:-0400
TZNAME:EDT
DTSTART:20250309T070000
END:DAYLIGHT
BEGIN:STANDARD
TZOFFSETFROM:-0400
TZOFFSETTO:-0500
TZNAME:EST
DTSTART:20251102T060000
END:STANDARD
BEGIN:DAYLIGHT
TZOFFSETFROM:-0500
TZOFFSETTO:-0400
TZNAME:EDT
DTSTART:20260308T070000
END:DAYLIGHT
BEGIN:STANDARD
TZOFFSETFROM:-0400
TZOFFSETTO:-0500
TZNAME:EST
DTSTART:20261101T060000
END:STANDARD
END:VTIMEZONE
BEGIN:VEVENT
DTSTART;TZID=America/New_York:20250301T130000
DTEND;TZID=America/New_York:20250301T143000
DTSTAMP:20260424T170258
CREATED:20241231T060146Z
LAST-MODIFIED:20241231T060148Z
UID:10000049-1740834000-1740839400@friendsofreadwildlifesanctuary.org
SUMMARY:Backyard Bird Bonanza! Make n’ Take Bluebird Nesting Boxes
DESCRIPTION:This popular program! We will learn the needs of these creatures that constantly struggle for nesting habitat. All materials will be provided to make a box. Participants must register by February 25\, 2024. Registration can be done by the following: sqw2@westchestercountyny.gov or by phone at 914-967-8720. Limit one Bluebird box per household to take home. Meet at Visitor Center. Pre-registration required.
URL:https://friendsofreadwildlifesanctuary.org/event/backyard-bird-bonanza-make-n-take-bluebird-nesting-boxes/
LOCATION:Edith Read Wildlife Sanctuary\, 1 Playland Parkway\, Rye\, NY\, 10580
CATEGORIES:Visitor Events
ATTACH;FMTTYPE=image/jpeg:https://friendsofreadwildlifesanctuary.org/wp-content/uploads/2024/12/Backyard-Bird-Bonanza-Bluebird-Boxes.jpg
END:VEVENT
BEGIN:VEVENT
DTSTART;TZID=America/New_York:20250308T130000
DTEND;TZID=America/New_York:20250308T143000
DTSTAMP:20260424T170258
CREATED:20241231T060619Z
LAST-MODIFIED:20241231T060621Z
UID:10000050-1741438800-1741444200@friendsofreadwildlifesanctuary.org
SUMMARY:“Living Reef”- Natural and Living History Travel Log
DESCRIPTION:We will look at the parts that make up the sum of this exciting project. This includes a living shipwreck visit\, geology exploration and a chronology demonstration. Meet at Visitor Center.
URL:https://friendsofreadwildlifesanctuary.org/event/living-reef-natural-and-living-history-travel-log/
LOCATION:Edith Read Wildlife Sanctuary\, 1 Playland Parkway\, Rye\, NY\, 10580
CATEGORIES:Visitor Events
ATTACH;FMTTYPE=image/jpeg:https://friendsofreadwildlifesanctuary.org/wp-content/uploads/2024/12/Living-Reef-History-Travelogue.jpg
END:VEVENT
BEGIN:VEVENT
DTSTART;TZID=America/New_York:20250309T140000
DTEND;TZID=America/New_York:20250309T153000
DTSTAMP:20260424T170258
CREATED:20241231T061005Z
LAST-MODIFIED:20250307T132240Z
UID:10000051-1741528800-1741534200@friendsofreadwildlifesanctuary.org
SUMMARY:Backyard Feeders
DESCRIPTION:Discuss and identify birds and other species that you may find in your backyard. This includes a journey into the Sanctuary.  Meet at Visitor Center.
URL:https://friendsofreadwildlifesanctuary.org/event/backyard-feeders/
CATEGORIES:Visitor Events
ATTACH;FMTTYPE=image/jpeg:https://friendsofreadwildlifesanctuary.org/wp-content/uploads/2024/12/Backyard-Feeders-1.jpg
END:VEVENT
BEGIN:VEVENT
DTSTART;TZID=America/New_York:20250315T130000
DTEND;TZID=America/New_York:20250315T143000
DTSTAMP:20260424T170258
CREATED:20241231T061244Z
LAST-MODIFIED:20241231T061314Z
UID:10000052-1742043600-1742049000@friendsofreadwildlifesanctuary.org
SUMMARY:VOLUNTEER: Invasive Vine Removal
DESCRIPTION:Volunteer Opportunity. Come help clear trees and shrubs of these problematic climbers. Great for service credit hours. Please bring work gloves. All other tools will be provided. Meet at Visitor Center.
URL:https://friendsofreadwildlifesanctuary.org/event/volunteer-invasive-vine-removal/
LOCATION:Edith Read Wildlife Sanctuary\, 1 Playland Parkway\, Rye\, NY\, 10580
CATEGORIES:Volunteer Events
ATTACH;FMTTYPE=image/jpeg:https://friendsofreadwildlifesanctuary.org/wp-content/uploads/2024/12/Volunteer-Invasive-Vine-Removal.jpg
END:VEVENT
BEGIN:VEVENT
DTSTART;TZID=America/New_York:20250322T130000
DTEND;TZID=America/New_York:20250322T143000
DTSTAMP:20260424T170258
CREATED:20241231T061557Z
LAST-MODIFIED:20241231T061558Z
UID:10000053-1742648400-1742653800@friendsofreadwildlifesanctuary.org
SUMMARY:Early Spring Scavenger Hunt
DESCRIPTION:We will search for natural signs and items that have been placed in “treasure boxes”. This is a fun way for kids to find clues and ideas that will help educate them about their natural surroundings. Meet at Visitor Center.
URL:https://friendsofreadwildlifesanctuary.org/event/early-spring-scavenger-hunt/
LOCATION:Edith Read Wildlife Sanctuary\, 1 Playland Parkway\, Rye\, NY\, 10580
CATEGORIES:Visitor Events
ATTACH;FMTTYPE=image/jpeg:https://friendsofreadwildlifesanctuary.org/wp-content/uploads/2024/12/Early-Spring-Scavenger-Hunt.jpg
END:VEVENT
BEGIN:VEVENT
DTSTART;TZID=America/New_York:20250323T140000
DTEND;TZID=America/New_York:20250323T153000
DTSTAMP:20260424T170258
CREATED:20241231T061907Z
LAST-MODIFIED:20241231T061908Z
UID:10000054-1742738400-1742743800@friendsofreadwildlifesanctuary.org
SUMMARY:Squirrels & Winter
DESCRIPTION:Discuss how squirrels survive during the winter. Review their forging habits and what they do right as winter ends. We will then observe them in their wild habitat. Meet at Visitor Center.
URL:https://friendsofreadwildlifesanctuary.org/event/squirrels-winter/
LOCATION:Edith Read Wildlife Sanctuary\, 1 Playland Parkway\, Rye\, NY\, 10580
CATEGORIES:Visitor Events
ATTACH;FMTTYPE=image/jpeg:https://friendsofreadwildlifesanctuary.org/wp-content/uploads/2024/12/Squirrels-Winter.jpg
END:VEVENT
BEGIN:VEVENT
DTSTART;TZID=America/New_York:20250329T100000
DTEND;TZID=America/New_York:20250329T113000
DTSTAMP:20260424T170258
CREATED:20241231T062116Z
LAST-MODIFIED:20241231T062118Z
UID:10000055-1743242400-1743247800@friendsofreadwildlifesanctuary.org
SUMMARY:Early Bird Migrants
DESCRIPTION:We will seek out some of the earlier warbler migrants\, as well as staying in tune with the backyard and aquatic birds. Please bring binoculars. Meet at Visitor Center.
URL:https://friendsofreadwildlifesanctuary.org/event/early-bird-migrants/
CATEGORIES:Visitor Events
ATTACH;FMTTYPE=image/jpeg:https://friendsofreadwildlifesanctuary.org/wp-content/uploads/2024/12/Early-Bird-Migrants.jpg
END:VEVENT
BEGIN:VEVENT
DTSTART;TZID=America/New_York:20250329T130000
DTEND;TZID=America/New_York:20250329T143000
DTSTAMP:20260424T170258
CREATED:20241231T062323Z
LAST-MODIFIED:20241231T062325Z
UID:10000056-1743253200-1743258600@friendsofreadwildlifesanctuary.org
SUMMARY:VOLUNTEER: Spreading Wood Chips
DESCRIPTION:Volunteer Opportunity! Come and help beautify some of our spaces along trails and trees. Great for service credit hours. Please bring work gloves\, if you have them. All other tools will be provided. Meet at Visitor Center.
URL:https://friendsofreadwildlifesanctuary.org/event/volunteer-spreading-wood-chips/
LOCATION:Edith Read Wildlife Sanctuary\, 1 Playland Parkway\, Rye\, NY\, 10580
CATEGORIES:Volunteer Events
ATTACH;FMTTYPE=image/jpeg:https://friendsofreadwildlifesanctuary.org/wp-content/uploads/2024/12/Volunteer-Spreading-Wood-Chips.jpg
END:VEVENT
END:VCALENDAR