BEGIN:VCALENDAR
VERSION:2.0
PRODID:-//FRWS - ECPv6.15.17//NONSGML v1.0//EN
CALSCALE:GREGORIAN
METHOD:PUBLISH
X-ORIGINAL-URL:https://friendsofreadwildlifesanctuary.org
X-WR-CALDESC:Events for FRWS
REFRESH-INTERVAL;VALUE=DURATION:PT1H
X-Robots-Tag:noindex
X-PUBLISHED-TTL:PT1H
BEGIN:VTIMEZONE
TZID:America/New_York
BEGIN:DAYLIGHT
TZOFFSETFROM:-0500
TZOFFSETTO:-0400
TZNAME:EDT
DTSTART:20230312T070000
END:DAYLIGHT
BEGIN:STANDARD
TZOFFSETFROM:-0400
TZOFFSETTO:-0500
TZNAME:EST
DTSTART:20231105T060000
END:STANDARD
BEGIN:DAYLIGHT
TZOFFSETFROM:-0500
TZOFFSETTO:-0400
TZNAME:EDT
DTSTART:20240310T070000
END:DAYLIGHT
BEGIN:STANDARD
TZOFFSETFROM:-0400
TZOFFSETTO:-0500
TZNAME:EST
DTSTART:20241103T060000
END:STANDARD
BEGIN:DAYLIGHT
TZOFFSETFROM:-0500
TZOFFSETTO:-0400
TZNAME:EDT
DTSTART:20250309T070000
END:DAYLIGHT
BEGIN:STANDARD
TZOFFSETFROM:-0400
TZOFFSETTO:-0500
TZNAME:EST
DTSTART:20251102T060000
END:STANDARD
END:VTIMEZONE
BEGIN:VEVENT
DTSTART;TZID=America/New_York:20241012T100000
DTEND;TZID=America/New_York:20241012T120000
DTSTAMP:20260425T090513
CREATED:20240930T051628Z
LAST-MODIFIED:20240930T051630Z
UID:10000028-1728727200-1728734400@friendsofreadwildlifesanctuary.org
SUMMARY:VOLUNTEER WORK PROJECT
DESCRIPTION:Planting of Native Seaside Goldenrod Near the Shoreline\n\n\n\nWe will clear small patches of invasive plants\, to plant a native shoreline plant. Please bring work gloves. All other supplies will be provided. Meets at Visitor Center.  \n\n\n\nQUESTIONS? Contact Scott 914-967-8720\, Sqw2@westchestercountyny.gov
URL:https://friendsofreadwildlifesanctuary.org/event/volunteer-work-project/
LOCATION:Edith Read Wildlife Sanctuary\, 1 Playland Parkway\, Rye\, NY\, 10580
CATEGORIES:Volunteer Events
ATTACH;FMTTYPE=image/jpeg:https://friendsofreadwildlifesanctuary.org/wp-content/uploads/2023/07/Volunteers_5.jpeg
END:VEVENT
BEGIN:VEVENT
DTSTART;TZID=America/New_York:20241012T130000
DTEND;TZID=America/New_York:20241012T143000
DTSTAMP:20260425T090513
CREATED:20240929T184735Z
LAST-MODIFIED:20241025T190321Z
UID:10000015-1728738000-1728743400@friendsofreadwildlifesanctuary.org
SUMMARY:Final Fall Seining
DESCRIPTION:This will be the last chance to catch the saltwater creatures close in the Long Island Sound with a 25-foot seining net. Fun for kids of all ages (including adults). Please dress to get wet. Meet at the Visitor Center.
URL:https://friendsofreadwildlifesanctuary.org/event/final-fall-seining-2/
LOCATION:Edith Read Wildlife Sanctuary\, 1 Playland Parkway\, Rye\, NY\, 10580
CATEGORIES:Visitor Events
ATTACH;FMTTYPE=image/png:https://friendsofreadwildlifesanctuary.org/wp-content/uploads/2023/07/Seining_at_Sanctuary.png
END:VEVENT
BEGIN:VEVENT
DTSTART;TZID=America/New_York:20241019T130000
DTEND;TZID=America/New_York:20241019T143000
DTSTAMP:20260425T090513
CREATED:20240929T230145Z
LAST-MODIFIED:20241025T190314Z
UID:10000016-1729342800-1729348200@friendsofreadwildlifesanctuary.org
SUMMARY:All Creatures Small\, All Trees Tall
DESCRIPTION:As Autumn becomes in full swing\, we will see the change of the guard through the tree leaves and their surroundings. Meet at the Visitor Center.
URL:https://friendsofreadwildlifesanctuary.org/event/all-creatures-small-all-trees-tall/
LOCATION:Edith Read Wildlife Sanctuary\, 1 Playland Parkway\, Rye\, NY\, 10580
CATEGORIES:Visitor Events
ATTACH;FMTTYPE=image/jpeg:https://friendsofreadwildlifesanctuary.org/wp-content/uploads/2023/07/Earth-and-Plant-by-Mickey-Job.jpg
END:VEVENT
END:VCALENDAR