BEGIN:VCALENDAR
VERSION:2.0
PRODID:-//FRWS - ECPv6.15.17//NONSGML v1.0//EN
CALSCALE:GREGORIAN
METHOD:PUBLISH
X-WR-CALNAME:FRWS
X-ORIGINAL-URL:https://friendsofreadwildlifesanctuary.org
X-WR-CALDESC:Events for FRWS
REFRESH-INTERVAL;VALUE=DURATION:PT1H
X-Robots-Tag:noindex
X-PUBLISHED-TTL:PT1H
BEGIN:VTIMEZONE
TZID:America/New_York
BEGIN:DAYLIGHT
TZOFFSETFROM:-0500
TZOFFSETTO:-0400
TZNAME:EDT
DTSTART:20240310T070000
END:DAYLIGHT
BEGIN:STANDARD
TZOFFSETFROM:-0400
TZOFFSETTO:-0500
TZNAME:EST
DTSTART:20241103T060000
END:STANDARD
BEGIN:DAYLIGHT
TZOFFSETFROM:-0500
TZOFFSETTO:-0400
TZNAME:EDT
DTSTART:20250309T070000
END:DAYLIGHT
BEGIN:STANDARD
TZOFFSETFROM:-0400
TZOFFSETTO:-0500
TZNAME:EST
DTSTART:20251102T060000
END:STANDARD
BEGIN:DAYLIGHT
TZOFFSETFROM:-0500
TZOFFSETTO:-0400
TZNAME:EDT
DTSTART:20260308T070000
END:DAYLIGHT
BEGIN:STANDARD
TZOFFSETFROM:-0400
TZOFFSETTO:-0500
TZNAME:EST
DTSTART:20261101T060000
END:STANDARD
END:VTIMEZONE
BEGIN:VEVENT
DTSTART;TZID=America/New_York:20250517T090000
DTEND;TZID=America/New_York:20250517T110000
DTSTAMP:20260423T202015
CREATED:20250317T005831Z
LAST-MODIFIED:20250317T005832Z
UID:10000067-1747472400-1747479600@friendsofreadwildlifesanctuary.org
SUMMARY:Volunteer: Preparing/Planting Garden Beds for Spring/Summer
DESCRIPTION:Come help us prepare the beds for wildflowers\, to help the pollinators. Please bring work gloves. Hand tools will be provided. Great for service credit hours.
URL:https://friendsofreadwildlifesanctuary.org/event/volunteer-preparing-planting-garden-beds-for-spring-summer/
LOCATION:Edith Read Wildlife Sanctuary\, 1 Playland Parkway\, Rye\, NY\, 10580
CATEGORIES:Volunteer Events
ATTACH;FMTTYPE=image/jpeg:https://friendsofreadwildlifesanctuary.org/wp-content/uploads/2025/03/Prepping-Gardens.jpg
END:VEVENT
BEGIN:VEVENT
DTSTART;TZID=America/New_York:20250510T130000
DTEND;TZID=America/New_York:20250510T143000
DTSTAMP:20260423T202015
CREATED:20250317T031111Z
LAST-MODIFIED:20250317T031113Z
UID:10000075-1746882000-1746887400@friendsofreadwildlifesanctuary.org
SUMMARY:The Clay Making Bonanza
DESCRIPTION:We will learn about how natural clay forms in our Sanctuary. We will also collect clay and create…..Fun for the whole family.
URL:https://friendsofreadwildlifesanctuary.org/event/the-clay-making-bonanza/
LOCATION:Edith Read Wildlife Sanctuary\, 1 Playland Parkway\, Rye\, NY\, 10580
CATEGORIES:Visitor Events
ATTACH;FMTTYPE=image/jpeg:https://friendsofreadwildlifesanctuary.org/wp-content/uploads/2025/03/natural-clay-being-held-in-hands.jpg
END:VEVENT
BEGIN:VEVENT
DTSTART;TZID=America/New_York:20250510T100000
DTEND;TZID=America/New_York:20250510T113000
DTSTAMP:20260423T202015
CREATED:20250317T005616Z
LAST-MODIFIED:20250317T005618Z
UID:10000066-1746871200-1746876600@friendsofreadwildlifesanctuary.org
SUMMARY:Way of the Warblers
DESCRIPTION:Come and view an earlier stopover of these fluttery feathered flatterers. Please bring binoculars and dress for the weather.
URL:https://friendsofreadwildlifesanctuary.org/event/way-of-the-warblers/
LOCATION:Edith Read Wildlife Sanctuary\, 1 Playland Parkway\, Rye\, NY\, 10580
CATEGORIES:Visitor Events
ATTACH;FMTTYPE=image/jpeg:https://friendsofreadwildlifesanctuary.org/wp-content/uploads/2025/03/Yellow-Warbler-pair-at-nest-scaled.jpg
END:VEVENT
BEGIN:VEVENT
DTSTART;TZID=America/New_York:20250504T140000
DTEND;TZID=America/New_York:20250504T153000
DTSTAMP:20260423T202015
CREATED:20250317T005423Z
LAST-MODIFIED:20250317T005424Z
UID:10000065-1746367200-1746372600@friendsofreadwildlifesanctuary.org
SUMMARY:Survival Strategies of the Mink
DESCRIPTION:The Naturalist with educate and entice you to learn more about these elusive carnivores.
URL:https://friendsofreadwildlifesanctuary.org/event/survival-strategies-of-the-mink/
LOCATION:Edith Read Wildlife Sanctuary\, 1 Playland Parkway\, Rye\, NY\, 10580
CATEGORIES:Visitor Events
ATTACH;FMTTYPE=image/jpeg:https://friendsofreadwildlifesanctuary.org/wp-content/uploads/2025/03/Mink.jpg
END:VEVENT
BEGIN:VEVENT
DTSTART;TZID=America/New_York:20250427T140000
DTEND;TZID=America/New_York:20250427T153000
DTSTAMP:20260423T202015
CREATED:20250317T005259Z
LAST-MODIFIED:20250317T005301Z
UID:10000064-1745762400-1745767800@friendsofreadwildlifesanctuary.org
SUMMARY:Squirrels Foraging
DESCRIPTION:Squirrels exhibit fascinating forging habits that vary significantly throughout the seasons. Talk about various resources that they will find from buds\, nuts\, seeds and insects.
URL:https://friendsofreadwildlifesanctuary.org/event/squirrels-foraging/
LOCATION:Edith Read Wildlife Sanctuary\, 1 Playland Parkway\, Rye\, NY\, 10580
CATEGORIES:Visitor Events
ATTACH;FMTTYPE=image/jpeg:https://friendsofreadwildlifesanctuary.org/wp-content/uploads/2025/03/FRWS-black-squirrel-small.jpg
END:VEVENT
BEGIN:VEVENT
DTSTART;TZID=America/New_York:20250426T130000
DTEND;TZID=America/New_York:20250426T143000
DTSTAMP:20260423T202015
CREATED:20250317T003409Z
LAST-MODIFIED:20250317T005459Z
UID:10000063-1745672400-1745677800@friendsofreadwildlifesanctuary.org
SUMMARY:It’s Bamboo Time Again!
DESCRIPTION:We will learn techniques of how to ID Golden Bamboo\, how to remove bamboo and create tangible items from this grass. Please bring gloves. All tools will be provided.
URL:https://friendsofreadwildlifesanctuary.org/event/its-bamboo-time-again/
LOCATION:Edith Read Wildlife Sanctuary\, 1 Playland Parkway\, Rye\, NY\, 10580
CATEGORIES:Visitor Events
ATTACH;FMTTYPE=image/jpeg:https://friendsofreadwildlifesanctuary.org/wp-content/uploads/2024/09/327571112_1248471892405666_5987863129714819631_n.jpg
END:VEVENT
BEGIN:VEVENT
DTSTART;TZID=America/New_York:20250422T160000
DTEND;TZID=America/New_York:20250422T183000
DTSTAMP:20260423T202015
CREATED:20250405T010839Z
LAST-MODIFIED:20250405T011130Z
UID:10000076-1745337600-1745346600@friendsofreadwildlifesanctuary.org
SUMMARY:Earth Day Beach Clean Up
DESCRIPTION:Celebrate Earth Day at Edith Read Sanctuary. Join us for a guided clean up along the shoreline. Buckets/bags and grabbers will be provided. (Weather dependent). Register here.  \n\n\n\nPack a picnic and enjoy the sunset!
URL:https://friendsofreadwildlifesanctuary.org/event/earth-day-beach-clean-up/
LOCATION:Edith Read Wildlife Sanctuary\, 1 Playland Parkway\, Rye\, NY\, 10580
CATEGORIES:Partner Events,Volunteer Events
ATTACH;FMTTYPE=image/jpeg:https://friendsofreadwildlifesanctuary.org/wp-content/uploads/2024/09/IMG_1828.jpeg
END:VEVENT
BEGIN:VEVENT
DTSTART;TZID=America/New_York:20250419T130000
DTEND;TZID=America/New_York:20250419T143000
DTSTAMP:20260423T202015
CREATED:20250316T233249Z
LAST-MODIFIED:20250317T004721Z
UID:10000062-1745067600-1745073000@friendsofreadwildlifesanctuary.org
SUMMARY:Volunteer: Preparing an Area to Help Native Plants
DESCRIPTION:We will be removing invasive vegetation from a moist area near the Visitor Center\, so native vegetation has a chance to thrive. Please bring work gloves. Hand tools will be provided. Great for service credit hours.
URL:https://friendsofreadwildlifesanctuary.org/event/volunteer-work-project-preparing-an-area-to/
LOCATION:Edith Read Wildlife Sanctuary\, 1 Playland Parkway\, Rye\, NY\, 10580
CATEGORIES:Volunteer Events
ATTACH;FMTTYPE=image/jpeg:https://friendsofreadwildlifesanctuary.org/wp-content/uploads/2025/03/IMG_7906.jpg
END:VEVENT
BEGIN:VEVENT
DTSTART;TZID=America/New_York:20250413T140000
DTEND;TZID=America/New_York:20250413T153000
DTSTAMP:20260423T202015
CREATED:20250316T232309Z
LAST-MODIFIED:20250316T233512Z
UID:10000061-1744552800-1744558200@friendsofreadwildlifesanctuary.org
SUMMARY:Woodchuck Survival Skills
DESCRIPTION:Come join the Naturalist to learn about the survival tactics and adaptations of this true hibernator. This will include observing their points of residency.
URL:https://friendsofreadwildlifesanctuary.org/event/woodchuck-survival-skills/
LOCATION:Edith Read Wildlife Sanctuary\, 1 Playland Parkway\, Rye\, NY\, 10580
CATEGORIES:Visitor Events
ATTACH;FMTTYPE=image/jpeg:https://friendsofreadwildlifesanctuary.org/wp-content/uploads/2025/03/Woodchuck-scaled.jpg
END:VEVENT
BEGIN:VEVENT
DTSTART;TZID=America/New_York:20250412T130000
DTEND;TZID=America/New_York:20250412T143000
DTSTAMP:20260423T202015
CREATED:20250316T231935Z
LAST-MODIFIED:20250316T233456Z
UID:10000060-1744462800-1744468200@friendsofreadwildlifesanctuary.org
SUMMARY:Signs of Springtime
DESCRIPTION:Let us go on a journey to find clues of Spring emergent\, from birds to bees to leafing trees.
URL:https://friendsofreadwildlifesanctuary.org/event/signs-of-springtime/
LOCATION:Edith Read Wildlife Sanctuary\, 1 Playland Parkway\, Rye\, NY\, 10580
CATEGORIES:Visitor Events
ATTACH;FMTTYPE=image/jpeg:https://friendsofreadwildlifesanctuary.org/wp-content/uploads/2025/03/IMG_7908.jpg
END:VEVENT
BEGIN:VEVENT
DTSTART;TZID=America/New_York:20250412T100000
DTEND;TZID=America/New_York:20250412T120000
DTSTAMP:20260423T202015
CREATED:20250316T231349Z
LAST-MODIFIED:20250316T231752Z
UID:10000059-1744452000-1744459200@friendsofreadwildlifesanctuary.org
SUMMARY:Summer Nature Camp Open House
DESCRIPTION:A chance to meet the director to learn about the opportunities for children to attend our Summer Nature Camp. The director will also share his stories and experiences with the program. Refreshments will be served.
URL:https://friendsofreadwildlifesanctuary.org/event/summer-nature-camp-open-house/
LOCATION:Edith Read Wildlife Sanctuary\, 1 Playland Parkway\, Rye\, NY\, 10580
CATEGORIES:Visitor Events
ATTACH;FMTTYPE=image/jpeg:https://friendsofreadwildlifesanctuary.org/wp-content/uploads/2025/03/summer-camp.jpg
END:VEVENT
BEGIN:VEVENT
DTSTART;TZID=America/New_York:20250405T130000
DTEND;TZID=America/New_York:20250405T143000
DTSTAMP:20260423T202015
CREATED:20250312T181623Z
LAST-MODIFIED:20250312T182935Z
UID:10000058-1743858000-1743863400@friendsofreadwildlifesanctuary.org
SUMMARY:VOLUNTEER: Spreading Wood Chips
DESCRIPTION:Volunteer Opportunity! Come and help beautify some of our spaces along trails and trees. Great for service credit hours. Please bring work gloves\, if you have them. All other tools will be provided. Meet at Visitor Center.
URL:https://friendsofreadwildlifesanctuary.org/event/volunteer-spreading-wood-chips-2/
LOCATION:Edith Read Wildlife Sanctuary\, 1 Playland Parkway\, Rye\, NY\, 10580
CATEGORIES:Volunteer Events
ATTACH;FMTTYPE=image/jpeg:https://friendsofreadwildlifesanctuary.org/wp-content/uploads/2024/12/Volunteer-Spreading-Wood-Chips.jpg
END:VEVENT
BEGIN:VEVENT
DTSTART;TZID=America/New_York:20250329T130000
DTEND;TZID=America/New_York:20250329T143000
DTSTAMP:20260423T202015
CREATED:20241231T062323Z
LAST-MODIFIED:20241231T062325Z
UID:10000056-1743253200-1743258600@friendsofreadwildlifesanctuary.org
SUMMARY:VOLUNTEER: Spreading Wood Chips
DESCRIPTION:Volunteer Opportunity! Come and help beautify some of our spaces along trails and trees. Great for service credit hours. Please bring work gloves\, if you have them. All other tools will be provided. Meet at Visitor Center.
URL:https://friendsofreadwildlifesanctuary.org/event/volunteer-spreading-wood-chips/
LOCATION:Edith Read Wildlife Sanctuary\, 1 Playland Parkway\, Rye\, NY\, 10580
CATEGORIES:Volunteer Events
ATTACH;FMTTYPE=image/jpeg:https://friendsofreadwildlifesanctuary.org/wp-content/uploads/2024/12/Volunteer-Spreading-Wood-Chips.jpg
END:VEVENT
BEGIN:VEVENT
DTSTART;TZID=America/New_York:20250329T100000
DTEND;TZID=America/New_York:20250329T113000
DTSTAMP:20260423T202015
CREATED:20241231T062116Z
LAST-MODIFIED:20241231T062118Z
UID:10000055-1743242400-1743247800@friendsofreadwildlifesanctuary.org
SUMMARY:Early Bird Migrants
DESCRIPTION:We will seek out some of the earlier warbler migrants\, as well as staying in tune with the backyard and aquatic birds. Please bring binoculars. Meet at Visitor Center.
URL:https://friendsofreadwildlifesanctuary.org/event/early-bird-migrants/
CATEGORIES:Visitor Events
ATTACH;FMTTYPE=image/jpeg:https://friendsofreadwildlifesanctuary.org/wp-content/uploads/2024/12/Early-Bird-Migrants.jpg
END:VEVENT
BEGIN:VEVENT
DTSTART;TZID=America/New_York:20250323T140000
DTEND;TZID=America/New_York:20250323T153000
DTSTAMP:20260423T202015
CREATED:20241231T061907Z
LAST-MODIFIED:20241231T061908Z
UID:10000054-1742738400-1742743800@friendsofreadwildlifesanctuary.org
SUMMARY:Squirrels & Winter
DESCRIPTION:Discuss how squirrels survive during the winter. Review their forging habits and what they do right as winter ends. We will then observe them in their wild habitat. Meet at Visitor Center.
URL:https://friendsofreadwildlifesanctuary.org/event/squirrels-winter/
LOCATION:Edith Read Wildlife Sanctuary\, 1 Playland Parkway\, Rye\, NY\, 10580
CATEGORIES:Visitor Events
ATTACH;FMTTYPE=image/jpeg:https://friendsofreadwildlifesanctuary.org/wp-content/uploads/2024/12/Squirrels-Winter.jpg
END:VEVENT
BEGIN:VEVENT
DTSTART;TZID=America/New_York:20250322T130000
DTEND;TZID=America/New_York:20250322T143000
DTSTAMP:20260423T202015
CREATED:20241231T061557Z
LAST-MODIFIED:20241231T061558Z
UID:10000053-1742648400-1742653800@friendsofreadwildlifesanctuary.org
SUMMARY:Early Spring Scavenger Hunt
DESCRIPTION:We will search for natural signs and items that have been placed in “treasure boxes”. This is a fun way for kids to find clues and ideas that will help educate them about their natural surroundings. Meet at Visitor Center.
URL:https://friendsofreadwildlifesanctuary.org/event/early-spring-scavenger-hunt/
LOCATION:Edith Read Wildlife Sanctuary\, 1 Playland Parkway\, Rye\, NY\, 10580
CATEGORIES:Visitor Events
ATTACH;FMTTYPE=image/jpeg:https://friendsofreadwildlifesanctuary.org/wp-content/uploads/2024/12/Early-Spring-Scavenger-Hunt.jpg
END:VEVENT
BEGIN:VEVENT
DTSTART;TZID=America/New_York:20250315T130000
DTEND;TZID=America/New_York:20250315T143000
DTSTAMP:20260423T202015
CREATED:20241231T061244Z
LAST-MODIFIED:20241231T061314Z
UID:10000052-1742043600-1742049000@friendsofreadwildlifesanctuary.org
SUMMARY:VOLUNTEER: Invasive Vine Removal
DESCRIPTION:Volunteer Opportunity. Come help clear trees and shrubs of these problematic climbers. Great for service credit hours. Please bring work gloves. All other tools will be provided. Meet at Visitor Center.
URL:https://friendsofreadwildlifesanctuary.org/event/volunteer-invasive-vine-removal/
LOCATION:Edith Read Wildlife Sanctuary\, 1 Playland Parkway\, Rye\, NY\, 10580
CATEGORIES:Volunteer Events
ATTACH;FMTTYPE=image/jpeg:https://friendsofreadwildlifesanctuary.org/wp-content/uploads/2024/12/Volunteer-Invasive-Vine-Removal.jpg
END:VEVENT
BEGIN:VEVENT
DTSTART;TZID=America/New_York:20250309T140000
DTEND;TZID=America/New_York:20250309T153000
DTSTAMP:20260423T202015
CREATED:20241231T061005Z
LAST-MODIFIED:20250307T132240Z
UID:10000051-1741528800-1741534200@friendsofreadwildlifesanctuary.org
SUMMARY:Backyard Feeders
DESCRIPTION:Discuss and identify birds and other species that you may find in your backyard. This includes a journey into the Sanctuary.  Meet at Visitor Center.
URL:https://friendsofreadwildlifesanctuary.org/event/backyard-feeders/
CATEGORIES:Visitor Events
ATTACH;FMTTYPE=image/jpeg:https://friendsofreadwildlifesanctuary.org/wp-content/uploads/2024/12/Backyard-Feeders-1.jpg
END:VEVENT
BEGIN:VEVENT
DTSTART;TZID=America/New_York:20250308T130000
DTEND;TZID=America/New_York:20250308T143000
DTSTAMP:20260423T202015
CREATED:20241231T060619Z
LAST-MODIFIED:20241231T060621Z
UID:10000050-1741438800-1741444200@friendsofreadwildlifesanctuary.org
SUMMARY:“Living Reef”- Natural and Living History Travel Log
DESCRIPTION:We will look at the parts that make up the sum of this exciting project. This includes a living shipwreck visit\, geology exploration and a chronology demonstration. Meet at Visitor Center.
URL:https://friendsofreadwildlifesanctuary.org/event/living-reef-natural-and-living-history-travel-log/
LOCATION:Edith Read Wildlife Sanctuary\, 1 Playland Parkway\, Rye\, NY\, 10580
CATEGORIES:Visitor Events
ATTACH;FMTTYPE=image/jpeg:https://friendsofreadwildlifesanctuary.org/wp-content/uploads/2024/12/Living-Reef-History-Travelogue.jpg
END:VEVENT
BEGIN:VEVENT
DTSTART;TZID=America/New_York:20250301T130000
DTEND;TZID=America/New_York:20250301T143000
DTSTAMP:20260423T202015
CREATED:20241231T060146Z
LAST-MODIFIED:20241231T060148Z
UID:10000049-1740834000-1740839400@friendsofreadwildlifesanctuary.org
SUMMARY:Backyard Bird Bonanza! Make n’ Take Bluebird Nesting Boxes
DESCRIPTION:This popular program! We will learn the needs of these creatures that constantly struggle for nesting habitat. All materials will be provided to make a box. Participants must register by February 25\, 2024. Registration can be done by the following: sqw2@westchestercountyny.gov or by phone at 914-967-8720. Limit one Bluebird box per household to take home. Meet at Visitor Center. Pre-registration required.
URL:https://friendsofreadwildlifesanctuary.org/event/backyard-bird-bonanza-make-n-take-bluebird-nesting-boxes/
LOCATION:Edith Read Wildlife Sanctuary\, 1 Playland Parkway\, Rye\, NY\, 10580
CATEGORIES:Visitor Events
ATTACH;FMTTYPE=image/jpeg:https://friendsofreadwildlifesanctuary.org/wp-content/uploads/2024/12/Backyard-Bird-Bonanza-Bluebird-Boxes.jpg
END:VEVENT
BEGIN:VEVENT
DTSTART;TZID=America/New_York:20250223T140000
DTEND;TZID=America/New_York:20250223T153000
DTSTAMP:20260423T202015
CREATED:20241231T055820Z
LAST-MODIFIED:20241231T055823Z
UID:10000048-1740319200-1740324600@friendsofreadwildlifesanctuary.org
SUMMARY:Green in Winter
DESCRIPTION:Observe different species of evergreen vegetation\, from trees to shrubs and others. This will include sample collecting. Meet at Visitor Center.
URL:https://friendsofreadwildlifesanctuary.org/event/green-in-winter/
CATEGORIES:Visitor Events
ATTACH;FMTTYPE=image/jpeg:https://friendsofreadwildlifesanctuary.org/wp-content/uploads/2024/12/Green-in-Winter.jpg
END:VEVENT
BEGIN:VEVENT
DTSTART;TZID=America/New_York:20250222T130000
DTEND;TZID=America/New_York:20250222T143000
DTSTAMP:20260423T202015
CREATED:20241231T054345Z
LAST-MODIFIED:20241231T060833Z
UID:10000047-1740229200-1740234600@friendsofreadwildlifesanctuary.org
SUMMARY:VOLUNTEER: Invasives R’ Us
DESCRIPTION:Volunteer Opportunity! Help remove invasive plants. \n\n\n\nFor those who have visited Read Sanctuary before\, the awareness of the presence of invasive plants is known. Learn removal techniques and identification of these problematic plants. Great for Service Credit Hours. All tools and hand gloves will be provided. Meet at Visitor Center.
URL:https://friendsofreadwildlifesanctuary.org/event/volunteer-invasives-r-us/
LOCATION:Edith Read Wildlife Sanctuary\, 1 Playland Parkway\, Rye\, NY\, 10580
CATEGORIES:Volunteer Events
ATTACH;FMTTYPE=image/jpeg:https://friendsofreadwildlifesanctuary.org/wp-content/uploads/2024/12/Volunteer-Invasve-Vine-Removal.jpg
END:VEVENT
BEGIN:VEVENT
DTSTART;TZID=America/New_York:20250215T130000
DTEND;TZID=America/New_York:20250215T143000
DTSTAMP:20260423T202015
CREATED:20241231T054201Z
LAST-MODIFIED:20241231T054203Z
UID:10000046-1739624400-1739629800@friendsofreadwildlifesanctuary.org
SUMMARY:Bird Bonanza! Backyard Bird Feeders and Feeder Watch - Make n’ Take
DESCRIPTION:We will identify the birds that visit our feeders as well as create some simple feeders that you can take home to attract birds in your neighborhood. Participants must register by February 9th. Registration can be done by the following: sqw2@westchestercountyny.gov or by phone at 914-967-8720.
URL:https://friendsofreadwildlifesanctuary.org/event/bird-bonanza-backyard-bird-feeders-and-feeder-watch-make-n-take/
LOCATION:Edith Read Wildlife Sanctuary\, 1 Playland Parkway\, Rye\, NY\, 10580
CATEGORIES:Visitor Events
ATTACH;FMTTYPE=image/jpeg:https://friendsofreadwildlifesanctuary.org/wp-content/uploads/2024/12/Backyard-Bird-Feeders.jpg
END:VEVENT
BEGIN:VEVENT
DTSTART;TZID=America/New_York:20250208T130000
DTEND;TZID=America/New_York:20250208T143000
DTSTAMP:20260423T202015
CREATED:20241231T053257Z
LAST-MODIFIED:20241231T053259Z
UID:10000045-1739019600-1739025000@friendsofreadwildlifesanctuary.org
SUMMARY:The Weeds of Winter
DESCRIPTION:We will identify weeds and other plants during their winter months and learn how they cope with this dormant period. Meet at Visitor Center.
URL:https://friendsofreadwildlifesanctuary.org/event/the-weeds-of-winter/
LOCATION:Edith Read Wildlife Sanctuary\, 1 Playland Parkway\, Rye\, NY\, 10580
CATEGORIES:Visitor Events
ATTACH;FMTTYPE=image/jpeg:https://friendsofreadwildlifesanctuary.org/wp-content/uploads/2024/12/Weeds-of-Winter.jpg
END:VEVENT
BEGIN:VEVENT
DTSTART;TZID=America/New_York:20250201T130000
DTEND;TZID=America/New_York:20250201T143000
DTSTAMP:20260423T202015
CREATED:20241231T053040Z
LAST-MODIFIED:20241231T053042Z
UID:10000044-1738414800-1738420200@friendsofreadwildlifesanctuary.org
SUMMARY:Winter Tracking and Tracing
DESCRIPTION:Learn how to seek and find animal tracks and the stories they tell. Plaster prints make and take included. Meet at Visitor Center.
URL:https://friendsofreadwildlifesanctuary.org/event/winter-tracking-and-tracing/
LOCATION:Edith Read Wildlife Sanctuary\, 1 Playland Parkway\, Rye\, NY\, 10580
CATEGORIES:Visitor Events
ATTACH;FMTTYPE=image/jpeg:https://friendsofreadwildlifesanctuary.org/wp-content/uploads/2024/12/Winter-Tracking-and-Tracing.jpg
END:VEVENT
BEGIN:VEVENT
DTSTART;TZID=America/New_York:20250126T140000
DTEND;TZID=America/New_York:20250126T153000
DTSTAMP:20260423T202015
CREATED:20241231T052802Z
LAST-MODIFIED:20241231T052804Z
UID:10000043-1737900000-1737905400@friendsofreadwildlifesanctuary.org
SUMMARY:Animal Tracks at Read
DESCRIPTION:Come take a guided journey to identify different animal tracks throughout the sanctuary learning about markings and species in the area. Meet at the Visitor Center.
URL:https://friendsofreadwildlifesanctuary.org/event/animal-tracks-at-read/
LOCATION:Edith Read Wildlife Sanctuary\, 1 Playland Parkway\, Rye\, NY\, 10580
CATEGORIES:Visitor Events
ATTACH;FMTTYPE=image/jpeg:https://friendsofreadwildlifesanctuary.org/wp-content/uploads/2024/12/Animal-Tracks-at-Read.jpg
END:VEVENT
BEGIN:VEVENT
DTSTART;TZID=America/New_York:20250125T130000
DTEND;TZID=America/New_York:20250125T143000
DTSTAMP:20260423T202015
CREATED:20241231T020754Z
LAST-MODIFIED:20241231T020921Z
UID:10000041-1737810000-1737815400@friendsofreadwildlifesanctuary.org
SUMMARY:Waterfowl Migrants and Shorebird Sightings
DESCRIPTION:This may be the right time to observe both types of birds in action\, from the brackish waters of the lake to the salty shoreline adjacent to the Long Island Sound. Please bring binoculars and dress for the weather. Meet at the Visitor Center. Program will be outdoors.
URL:https://friendsofreadwildlifesanctuary.org/event/6365/
LOCATION:Edith Read Wildlife Sanctuary\, 1 Playland Parkway\, Rye\, NY\, 10580
CATEGORIES:Visitor Events
ATTACH;FMTTYPE=image/jpeg:https://friendsofreadwildlifesanctuary.org/wp-content/uploads/2024/12/Waterfowl-and-shorebird.jpg
END:VEVENT
BEGIN:VEVENT
DTSTART;TZID=America/New_York:20250125T100000
DTEND;TZID=America/New_York:20250125T113000
DTSTAMP:20260423T202015
CREATED:20241231T020551Z
LAST-MODIFIED:20241231T020552Z
UID:10000040-1737799200-1737804600@friendsofreadwildlifesanctuary.org
SUMMARY:Waterfowl Migrants and Shorebird Sightings
DESCRIPTION:This may be the right time to observe both types of birds in action\, from the brackish waters of the lake to the salty shoreline adjacent to the Long Island Sound. Please bring binoculars and dress for the weather. Meet at Visitor Center.
URL:https://friendsofreadwildlifesanctuary.org/event/waterfowl-migrants-and-shorebird-sightings-2/
LOCATION:Edith Read Wildlife Sanctuary\, 1 Playland Parkway\, Rye\, NY\, 10580
CATEGORIES:Visitor Events
ATTACH;FMTTYPE=image/jpeg:https://friendsofreadwildlifesanctuary.org/wp-content/uploads/2024/12/Waterfowl-and-shorebird.jpg
END:VEVENT
BEGIN:VEVENT
DTSTART;TZID=America/New_York:20250120T100000
DTEND;TZID=America/New_York:20250120T120000
DTSTAMP:20260423T202015
CREATED:20250116T235320Z
LAST-MODIFIED:20250117T001514Z
UID:10000057-1737367200-1737374400@friendsofreadwildlifesanctuary.org
SUMMARY:Beach Cleanup - MLK Day of Service
DESCRIPTION:This volunteer event will be on MLK Day of Service. This beach cleanup is hosted by the Long Island Sound Study and New York Sea Grant. Click here to register. If weather warrants a reschedule\, you will be notified of the change. \n\n\n\nAll ages welcome. BRING GLOVES AND DRESS WARM! Meet at the Visitor Center. \n\n\n\n\n\n\n\n\n\n \n\n\n\nhttps://cornell.ca1.qualtrics.com/jfe/form/SV_9GrMwsWYMDAg7mC
URL:https://friendsofreadwildlifesanctuary.org/event/beach-cleanup-mlk-day-of-service/
LOCATION:Edith Read Wildlife Sanctuary\, 1 Playland Parkway\, Rye\, NY\, 10580
CATEGORIES:Volunteer Events
ATTACH;FMTTYPE=image/png:https://friendsofreadwildlifesanctuary.org/wp-content/uploads/2025/01/National-MLK-Day-of-Service-2025-AG-edit.png
END:VEVENT
BEGIN:VEVENT
DTSTART;TZID=America/New_York:20250118T130000
DTEND;TZID=America/New_York:20250118T143000
DTSTAMP:20260423T202015
CREATED:20241231T020200Z
LAST-MODIFIED:20241231T020202Z
UID:10000039-1737205200-1737210600@friendsofreadwildlifesanctuary.org
SUMMARY:Animals in Hibernation
DESCRIPTION:Ever wonder where all those animals go during Winter? Many animals hibernate\, but hibernation can take many different forms. Join us for this program to learn more about different types of hibernation for all sorts of animals found right here in the sanctuary. This program is great for anyone curious to learn more about the animals all around us even when they are not seen.  Meet at Visitor Center.
URL:https://friendsofreadwildlifesanctuary.org/event/animals-in-hibernation/
LOCATION:Edith Read Wildlife Sanctuary\, 1 Playland Parkway\, Rye\, NY\, 10580
CATEGORIES:Visitor Events
ATTACH;FMTTYPE=image/jpeg:https://friendsofreadwildlifesanctuary.org/wp-content/uploads/2024/12/animals-in-hibernation.jpeg
END:VEVENT
END:VCALENDAR