BEGIN:VCALENDAR
VERSION:2.0
PRODID:-//FRWS - ECPv6.15.17//NONSGML v1.0//EN
CALSCALE:GREGORIAN
METHOD:PUBLISH
X-WR-CALNAME:FRWS
X-ORIGINAL-URL:https://friendsofreadwildlifesanctuary.org
X-WR-CALDESC:Events for FRWS
REFRESH-INTERVAL;VALUE=DURATION:PT1H
X-Robots-Tag:noindex
X-PUBLISHED-TTL:PT1H
BEGIN:VTIMEZONE
TZID:America/New_York
BEGIN:DAYLIGHT
TZOFFSETFROM:-0500
TZOFFSETTO:-0400
TZNAME:EDT
DTSTART:20240310T070000
END:DAYLIGHT
BEGIN:STANDARD
TZOFFSETFROM:-0400
TZOFFSETTO:-0500
TZNAME:EST
DTSTART:20241103T060000
END:STANDARD
BEGIN:DAYLIGHT
TZOFFSETFROM:-0500
TZOFFSETTO:-0400
TZNAME:EDT
DTSTART:20250309T070000
END:DAYLIGHT
BEGIN:STANDARD
TZOFFSETFROM:-0400
TZOFFSETTO:-0500
TZNAME:EST
DTSTART:20251102T060000
END:STANDARD
BEGIN:DAYLIGHT
TZOFFSETFROM:-0500
TZOFFSETTO:-0400
TZNAME:EDT
DTSTART:20260308T070000
END:DAYLIGHT
BEGIN:STANDARD
TZOFFSETFROM:-0400
TZOFFSETTO:-0500
TZNAME:EST
DTSTART:20261101T060000
END:STANDARD
BEGIN:DAYLIGHT
TZOFFSETFROM:-0500
TZOFFSETTO:-0400
TZNAME:EDT
DTSTART:20270314T070000
END:DAYLIGHT
BEGIN:STANDARD
TZOFFSETFROM:-0400
TZOFFSETTO:-0500
TZNAME:EST
DTSTART:20271107T060000
END:STANDARD
END:VTIMEZONE
BEGIN:VEVENT
DTSTART;TZID=America/New_York:20260131T130000
DTEND;TZID=America/New_York:20260131T143000
DTSTAMP:20260423T201930
CREATED:20260106T172501Z
LAST-MODIFIED:20260106T172622Z
UID:10000114-1769864400-1769869800@friendsofreadwildlifesanctuary.org
SUMMARY:Volunteer Work Project- A Late Look at the Invasives and Their Removal
DESCRIPTION:One of the best times to control vegetation surprisingly is now. Many plant species are in a period of dormancy.  \n\n\n\nGreat for service credit hours.  \n\n\n\nPlease bring work gloves. Hand tools and demonstrations are provided.
URL:https://friendsofreadwildlifesanctuary.org/event/volunteer-work-project-a-late-look-at-the-invasives-and-their-removal-3/2026-01-31/
CATEGORIES:Volunteer Events
ATTACH;FMTTYPE=image/jpeg:https://friendsofreadwildlifesanctuary.org/wp-content/uploads/2025/02/Invasives-R-Us.jpg
END:VEVENT
BEGIN:VEVENT
DTSTART;TZID=America/New_York:20260131T100000
DTEND;TZID=America/New_York:20260131T113000
DTSTAMP:20260423T201930
CREATED:20260106T180137Z
LAST-MODIFIED:20260117T185636Z
UID:10000117-1769853600-1769859000@friendsofreadwildlifesanctuary.org
SUMMARY:Waterfowl Migrants and Shorebird Sightings
DESCRIPTION:This may be the right time to observe both types of birds in action\, from the brackish waters of the lake to the salty shoreline adjacent to the Long Island Sound. Please bring binoculars and dress for the weather.
URL:https://friendsofreadwildlifesanctuary.org/event/waterfowl-migrants-and-shorebird-sightings-3/
CATEGORIES:Visitor Events
ATTACH;FMTTYPE=image/jpeg:https://friendsofreadwildlifesanctuary.org/wp-content/uploads/2026/01/waterfowl-migrants.jpeg
END:VEVENT
BEGIN:VEVENT
DTSTART;TZID=America/New_York:20260119T100000
DTEND;TZID=America/New_York:20260119T120000
DTSTAMP:20260423T201930
CREATED:20260106T211303Z
LAST-MODIFIED:20260106T211304Z
UID:10000127-1768816800-1768824000@friendsofreadwildlifesanctuary.org
SUMMARY:MLK Day of Service
DESCRIPTION:
URL:https://friendsofreadwildlifesanctuary.org/event/mlk-day-of-service/
CATEGORIES:Partner Events,Volunteer Events
END:VEVENT
BEGIN:VEVENT
DTSTART;TZID=America/New_York:20260117T130000
DTEND;TZID=America/New_York:20260117T143000
DTSTAMP:20260423T201930
CREATED:20260106T172501Z
LAST-MODIFIED:20260106T172622Z
UID:10000113-1768654800-1768660200@friendsofreadwildlifesanctuary.org
SUMMARY:Volunteer Work Project- A Late Look at the Invasives and Their Removal
DESCRIPTION:One of the best times to control vegetation surprisingly is now. Many plant species are in a period of dormancy.  \n\n\n\nGreat for service credit hours.  \n\n\n\nPlease bring work gloves. Hand tools and demonstrations are provided.
URL:https://friendsofreadwildlifesanctuary.org/event/volunteer-work-project-a-late-look-at-the-invasives-and-their-removal-3/2026-01-17/
CATEGORIES:Volunteer Events
ATTACH;FMTTYPE=image/jpeg:https://friendsofreadwildlifesanctuary.org/wp-content/uploads/2025/02/Invasives-R-Us.jpg
END:VEVENT
BEGIN:VEVENT
DTSTART;TZID=America/New_York:20260117T093000
DTEND;TZID=America/New_York:20260117T110000
DTSTAMP:20260423T201930
CREATED:20260106T211729Z
LAST-MODIFIED:20260106T212000Z
UID:10000128-1768642200-1768647600@friendsofreadwildlifesanctuary.org
SUMMARY:Winter Waterfowl Watching
DESCRIPTION:Established in 2024\, World Waterfowl Day is celebrated on January 17th each year. Join the staff of Pace University’s Suburban Biodiversity Conservation Center in celebrating this holiday by observing wintering waterfowl in their natural habitats at the Read Wildlife Sanctuary on the shores of Long Island Sound\, all while learning about their natural history! \n\n\n\nReserve your free spot here: https://www.eventbrite.com/e/winter-waterfowl-watching-tickets-1968832820967?aff=oddtdtcreator
URL:https://friendsofreadwildlifesanctuary.org/event/winter-waterfowl-watching/
CATEGORIES:Partner Events
ATTACH;FMTTYPE=image/jpeg:https://friendsofreadwildlifesanctuary.org/wp-content/uploads/2024/09/https___cdn.evbuc_.com_images_208641089_274671705583_1_original.jpg
END:VEVENT
BEGIN:VEVENT
DTSTART;TZID=America/New_York:20260110T130000
DTEND;TZID=America/New_York:20260110T143000
DTSTAMP:20260423T201930
CREATED:20260106T172845Z
LAST-MODIFIED:20260106T183348Z
UID:10000116-1768050000-1768055400@friendsofreadwildlifesanctuary.org
SUMMARY:Winter Tree ID - Buds 'n’ Bark
DESCRIPTION:Come join the Nature Center Staff in a simple lesson to help identify trees in the wintertime by their buds and bark. An interactive program that will look at a variety of tree species.
URL:https://friendsofreadwildlifesanctuary.org/event/winter-tree-id-buds-n-bark-2/
CATEGORIES:Visitor Events
ATTACH;FMTTYPE=image/jpeg:https://friendsofreadwildlifesanctuary.org/wp-content/uploads/2024/12/Buds-n-bark.jpg
END:VEVENT
BEGIN:VEVENT
DTSTART;TZID=America/New_York:20251221T140000
DTEND;TZID=America/New_York:20251221T153000
DTSTAMP:20260423T201930
CREATED:20251020T061421Z
LAST-MODIFIED:20251211T055059Z
UID:10000104-1766325600-1766331000@friendsofreadwildlifesanctuary.org
SUMMARY:The Eastern Cottontail: A Common\, Yet Fascinating Rabbit
DESCRIPTION:The Eastern Cottontail is the most widespread rabbit species in North America\, easily recognizable by its fluffy white tail. Despite its common presence in fields\, gardens\, and suburban areas\, it plays a crucial role in ecosystems as both an herbivore and a prey species for a variety of predators. This discussion will explore the Eastern Cottontail’s behavior\, diet\, reproductive strategies\, and adaptations that allow it to thrive in both wild and human-altered landscapes.
URL:https://friendsofreadwildlifesanctuary.org/event/the-eastern-cottontail-a-common-yet-fascinating-rabbit/
CATEGORIES:Visitor Events
END:VEVENT
BEGIN:VEVENT
DTSTART;TZID=America/New_York:20251213T130000
DTEND;TZID=America/New_York:20251213T160000
DTSTAMP:20260423T201930
CREATED:20251020T061330Z
LAST-MODIFIED:20251205T041239Z
UID:10000103-1765630800-1765641600@friendsofreadwildlifesanctuary.org
SUMMARY:Third Annual Photography and Art Exhibit for Read Sanctuary
DESCRIPTION:Sanctuary \n\n\n\n\n\nCome and view peoples’ talents and love for wildlife and nature through photography and artwork. Refreshments will be provided. Event sponsored by the Friends of Read Wildlife Sanctuary and the Westchester County Department of PARKS\, Exhibit will be on display through Saturday\, January 31st\, 2026.
URL:https://friendsofreadwildlifesanctuary.org/event/third-annual-photography-and-art-exhibit-for-read-sanctuary/
CATEGORIES:Visitor Events
ATTACH;FMTTYPE=image/jpeg:https://friendsofreadwildlifesanctuary.org/wp-content/uploads/2025/12/PhotographyandArtExhibit.jpg
END:VEVENT
BEGIN:VEVENT
DTSTART;TZID=America/New_York:20251207T140000
DTEND;TZID=America/New_York:20251207T153000
DTSTAMP:20260423T201930
CREATED:20251020T061231Z
LAST-MODIFIED:20251020T061233Z
UID:10000102-1765116000-1765121400@friendsofreadwildlifesanctuary.org
SUMMARY:The Clever Survivors: Raccoons in the Wild and Urban Landscapes
DESCRIPTION:Raccoons are highly adaptable mammals known for their intelligence\, dexterous paws\, and masked faces. Native to North America\, they thrive in forests\, wetlands\, and increasingly in urban environments. This discussion will explore their behavior\, diet\, social structure\, and interactions with both natural ecosystems and human communities.
URL:https://friendsofreadwildlifesanctuary.org/event/the-clever-survivors-raccoons-in-the-wild-and-urban-landscapes/
CATEGORIES:Visitor Events
END:VEVENT
BEGIN:VEVENT
DTSTART;TZID=America/New_York:20251206T130000
DTEND;TZID=America/New_York:20251206T160000
DTSTAMP:20260423T201930
CREATED:20251020T061123Z
LAST-MODIFIED:20251205T041150Z
UID:10000101-1765026000-1765036800@friendsofreadwildlifesanctuary.org
SUMMARY:Submit Photography and Artwork for Read Photography Exhibit 
DESCRIPTION:Submit your photographs and other artwork of Wildlife and Natural Landscapes. Photographs and artwork must be framed and wired for hanging. One photograph/art piece per person please!
URL:https://friendsofreadwildlifesanctuary.org/event/submit-photography-and-artwork-for-read-photography-exhibit-2/
CATEGORIES:Visitor Events
ATTACH;FMTTYPE=image/jpeg:https://friendsofreadwildlifesanctuary.org/wp-content/uploads/2025/12/PhotographyandArt_Submission_1080x1080.jpg
END:VEVENT
BEGIN:VEVENT
DTSTART;TZID=America/New_York:20251206T080000
DTEND;TZID=America/New_York:20251206T100000
DTSTAMP:20260423T201930
CREATED:20251020T060800Z
LAST-MODIFIED:20251020T060803Z
UID:10000100-1765008000-1765015200@friendsofreadwildlifesanctuary.org
SUMMARY:More Birding with the Audubon Society
DESCRIPTION:Join Anne Swaim\, Executive Director of Saw Mill River Audubon on a venture to observe birds that visit the Sanctuary. Meet near Playland Lake in the back of the main Playland parking lot.  Then\, continuing to Edith Read Sanctuary. Please bring binoculars. Registration is required. To register\, please go to \n\n\n\nhttps://www.sawmillriveraudubon.org
URL:https://friendsofreadwildlifesanctuary.org/event/more-birding-with-the-audubon-society/
CATEGORIES:Partner Events,Visitor Events
END:VEVENT
BEGIN:VEVENT
DTSTART;TZID=America/New_York:20251123T140000
DTEND;TZID=America/New_York:20251123T153000
DTSTAMP:20260423T201930
CREATED:20251020T060653Z
LAST-MODIFIED:20251020T060655Z
UID:10000099-1763906400-1763911800@friendsofreadwildlifesanctuary.org
SUMMARY:The Secret Life of Black Bears: Adaptations\, Habits and Human Encounters
DESCRIPTION:Black bears are the most widespread bear species in North America\, known for their adaptability to diverse habitats ranging from dense forests to suburban areas. This discussion will explore their physical traits\, diet\, seasonal behaviors such as hibernation\, survival strategies\, and the challenges they face.
URL:https://friendsofreadwildlifesanctuary.org/event/the-secret-life-of-black-bears-adaptations-habits-and-human-encounters/
CATEGORIES:Visitor Events
END:VEVENT
BEGIN:VEVENT
DTSTART;TZID=America/New_York:20251122T100000
DTEND;TZID=America/New_York:20251122T113000
DTSTAMP:20260423T201930
CREATED:20251020T060523Z
LAST-MODIFIED:20260106T170955Z
UID:10000097-1763805600-1763811000@friendsofreadwildlifesanctuary.org
SUMMARY:Volunteer Work Project- A Late Look at the Invasives and Their Removal
DESCRIPTION:One of the best times to control vegetation is\, surprisingly\, now. Many plant species are in a period of dormancy. Please bring work gloves. Hand tools and demonstrations are provided.
URL:https://friendsofreadwildlifesanctuary.org/event/volunteer-work-project-a-late-look-at-the-invasives-and-their-removal-2/2025-11-22/
CATEGORIES:Volunteer Events
ATTACH;FMTTYPE=image/jpeg:https://friendsofreadwildlifesanctuary.org/wp-content/uploads/2025/02/Invasives-R-Us.jpg
END:VEVENT
BEGIN:VEVENT
DTSTART;TZID=America/New_York:20251115T130000
DTEND;TZID=America/New_York:20251115T143000
DTSTAMP:20260423T201930
CREATED:20251020T054615Z
LAST-MODIFIED:20251020T054616Z
UID:10000095-1763211600-1763217000@friendsofreadwildlifesanctuary.org
SUMMARY:The World of Bamboo
DESCRIPTION:We will explore and harvest some bamboo to see how it thrives before the cold of wintertime. We will look at the inside and outside makings of these grasses\, as well as make some simple items. Hand tools will be provided. Anyone under 16 years of age must be accompanied by an adult.
URL:https://friendsofreadwildlifesanctuary.org/event/the-world-of-bamboo/
CATEGORIES:Visitor Events
END:VEVENT
BEGIN:VEVENT
DTSTART;TZID=America/New_York:20251115T100000
DTEND;TZID=America/New_York:20251115T113000
DTSTAMP:20260423T201930
CREATED:20251020T054514Z
LAST-MODIFIED:20251020T054516Z
UID:10000094-1763200800-1763206200@friendsofreadwildlifesanctuary.org
SUMMARY:Winter Duck Migration Observation
DESCRIPTION:Come witness\, through a tripod scope\, the behavior and movements of these waterfowl visitors. Please bring binoculars.
URL:https://friendsofreadwildlifesanctuary.org/event/winter-duck-migration-observation-2/
CATEGORIES:Visitor Events
END:VEVENT
BEGIN:VEVENT
DTSTART;TZID=America/New_York:20251109T140000
DTEND;TZID=America/New_York:20251109T153000
DTSTAMP:20260423T201930
CREATED:20251020T054416Z
LAST-MODIFIED:20251020T054418Z
UID:10000093-1762696800-1762702200@friendsofreadwildlifesanctuary.org
SUMMARY:Otters: Playful Predators of Waterways
DESCRIPTION:Found in rivers\, lakes\, and coastal areas around the world\, they play a key role as top predators\, helping maintain healthy fish and invertebrate populations. We will learn how these mammals use tools\, display strong social bonds\, and serve as important indicators of ecosystem health. 
URL:https://friendsofreadwildlifesanctuary.org/event/otters-playful-predators-of-waterways/
CATEGORIES:Visitor Events
END:VEVENT
BEGIN:VEVENT
DTSTART;TZID=America/New_York:20251108T130000
DTEND;TZID=America/New_York:20251108T143000
DTSTAMP:20260423T201930
CREATED:20251020T053856Z
LAST-MODIFIED:20251020T054220Z
UID:10000092-1762606800-1762612200@friendsofreadwildlifesanctuary.org
SUMMARY:Volunteer Work Project- A Late Look at the Invasives and Their Removal
DESCRIPTION:One of the best times to control vegetation is\, surprisingly\, now. Many plant species are in a period of dormancy. Great for service credit hours. Please bring work gloves. Hand tools and demonstrations are provided.
URL:https://friendsofreadwildlifesanctuary.org/event/volunteer-work-project-a-late-look-at-the-invasives-and-their-removal/2025-11-08/2/
CATEGORIES:Volunteer Events
END:VEVENT
BEGIN:VEVENT
DTSTART;TZID=America/New_York:20251108T100000
DTEND;TZID=America/New_York:20251108T113000
DTSTAMP:20260423T201930
CREATED:20251020T053856Z
LAST-MODIFIED:20251020T054220Z
UID:10000091-1762596000-1762601400@friendsofreadwildlifesanctuary.org
SUMMARY:Volunteer Work Project- A Late Look at the Invasives and Their Removal
DESCRIPTION:One of the best times to control vegetation is\, surprisingly\, now. Many plant species are in a period of dormancy. Great for service credit hours. Please bring work gloves. Hand tools and demonstrations are provided.
URL:https://friendsofreadwildlifesanctuary.org/event/volunteer-work-project-a-late-look-at-the-invasives-and-their-removal/2025-11-08/1/
CATEGORIES:Volunteer Events
END:VEVENT
BEGIN:VEVENT
DTSTART;TZID=America/New_York:20251102T070000
DTEND;TZID=America/New_York:20251102T100000
DTSTAMP:20260423T201930
CREATED:20251020T053707Z
LAST-MODIFIED:20251020T053708Z
UID:10000090-1762066800-1762077600@friendsofreadwildlifesanctuary.org
SUMMARY:Birding with the Audubon Society
DESCRIPTION:Join Anne Swaim\, Executive Director of Saw Mill River Audubon on a venture to observe birds that visit the Sanctuary. Meet near Playland Lake in the back of the main Playland parking lot.  Then\, continuing to Edith Read Sanctuary. Please bring binoculars. Registration is required. To register\, please go to \n\n\n\nhttps://www.sawmillriveraudubon.org
URL:https://friendsofreadwildlifesanctuary.org/event/birding-with-the-audubon-society-3/
END:VEVENT
BEGIN:VEVENT
DTSTART;TZID=America/New_York:20251101T130000
DTEND;TZID=America/New_York:20251101T143000
DTSTAMP:20260423T201930
CREATED:20251020T053604Z
LAST-MODIFIED:20251020T053605Z
UID:10000089-1762002000-1762007400@friendsofreadwildlifesanctuary.org
SUMMARY:In Search of Clay: Harvest\, Make N’ Take
DESCRIPTION:We will harvest natural clay from habitats within the Sanctuary. You will be allowed to create items of your choice (pots\, animals\, etc.)\, and take them home with you.
URL:https://friendsofreadwildlifesanctuary.org/event/in-search-of-clay-harvest-make-n-take/
END:VEVENT
BEGIN:VEVENT
DTSTART;TZID=America/New_York:20251026T140000
DTEND;TZID=America/New_York:20251026T153000
DTSTAMP:20260423T201930
CREATED:20251020T053454Z
LAST-MODIFIED:20251020T053456Z
UID:10000088-1761487200-1761492600@friendsofreadwildlifesanctuary.org
SUMMARY:Red-tailed Hawk: Master of the Skies
DESCRIPTION:The Red-tailed Hawk is one of North America’s most common and impressive birds of prey. These adaptable hunters thrive in forests\, fields\, and even cities. These raptors play a vital role in ecosystems by maintaining ecological balance as apex predators. We will attempt to observe them in the Sanctuary. Please bring binoculars.
URL:https://friendsofreadwildlifesanctuary.org/event/red-tailed-hawk-master-of-the-skies/
END:VEVENT
BEGIN:VEVENT
DTSTART;TZID=America/New_York:20251011T120000
DTEND;TZID=America/New_York:20251011T170000
DTSTAMP:20260423T201930
CREATED:20250714T211124Z
LAST-MODIFIED:20250715T025935Z
UID:10000084-1760184000-1760202000@friendsofreadwildlifesanctuary.org
SUMMARY:Fall Fest 2025
DESCRIPTION:Featuring: \n\n\n\nTwo by Two Animal Haven ~ The Nature Company ~ Birds of Prey ~ Live Music ~ Food Trucks ~ Pumpkin Patch ~ Edible Bug Bar ~ Face Painting ~ Story Telling ~ Scavenger Hunt ~ DIY Crafts ~ Yoga ~ And More!
URL:https://friendsofreadwildlifesanctuary.org/event/fall-fest-2025/
CATEGORIES:Visitor Events
ATTACH;FMTTYPE=image/webp:https://friendsofreadwildlifesanctuary.org/wp-content/uploads/2025/07/Fall-Fest-Logo.webp
END:VEVENT
BEGIN:VEVENT
DTSTART;TZID=America/New_York:20251002T140000
DTEND;TZID=America/New_York:20251002T170000
DTSTAMP:20260423T201930
CREATED:20250819T034023Z
LAST-MODIFIED:20250828T154205Z
UID:10000087-1759413600-1759424400@friendsofreadwildlifesanctuary.org
SUMMARY:Planting at the Edith Read Shoreline
DESCRIPTION:Featuring: \n\n\n\nTwo by Two Animal Haven ~ The Nature Company ~ Birds of Prey ~ Live Music ~ Food Trucks ~ Pumpkin Patch ~ Edible Bug Bar ~ Face Painting ~ Story Telling ~ Scavenger Hunt ~ DIY Crafts ~ Yoga ~ And More!
URL:https://friendsofreadwildlifesanctuary.org/event/planting-at-the-edith-read-shoreline/
CATEGORIES:Volunteer Events
END:VEVENT
BEGIN:VEVENT
DTSTART;TZID=America/New_York:20250920T160000
DTEND;TZID=America/New_York:20250920T173000
DTSTAMP:20260423T201930
CREATED:20250819T033011Z
LAST-MODIFIED:20250819T033012Z
UID:10000086-1758384000-1758389400@friendsofreadwildlifesanctuary.org
SUMMARY:Friends' 35th Birthday Celebration
DESCRIPTION:Celebrate 35 years of The Friends of Read Wildlife Sanctuary\, a mostly volunteer organization dedicated to preserving and enhancing the Edith G. Read Wildlife Sanctuary. \n\n\n\nBring a lawn chair and enjoy a musical performance by Scott Wenzel’s Big Band. Champagne and cake will be served.
URL:https://friendsofreadwildlifesanctuary.org/event/friends-35th-birthday-celebration/
CATEGORIES:Visitor Events,Volunteer Events
END:VEVENT
BEGIN:VEVENT
DTSTART;TZID=America/New_York:20250920T140000
DTEND;TZID=America/New_York:20250920T160000
DTSTAMP:20260423T201930
CREATED:20250819T032342Z
LAST-MODIFIED:20250819T032344Z
UID:10000085-1758376800-1758384000@friendsofreadwildlifesanctuary.org
SUMMARY:Friends of Edith Read Annual Meeting
DESCRIPTION:Join us for a light lunch during our annual year-in-review session. Discussions will include updates on preservation efforts\, sanctuary programs\, and membership and financial status. Stay after to celebrate Friends’ 35th birthday with music\, cake and bubbly!
URL:https://friendsofreadwildlifesanctuary.org/event/friends-of-edith-read-annual-meeting/
CATEGORIES:Visitor Events,Volunteer Events
ATTACH;FMTTYPE=image/jpeg:https://friendsofreadwildlifesanctuary.org/wp-content/uploads/2025/08/FRWS-Logo-Annual-Meeting.jpeg
END:VEVENT
BEGIN:VEVENT
DTSTART;TZID=America/New_York:20250913T100000
DTEND;TZID=America/New_York:20250913T113000
DTSTAMP:20260423T201930
CREATED:20250630T183652Z
LAST-MODIFIED:20250630T183743Z
UID:10000083-1757757600-1757763000@friendsofreadwildlifesanctuary.org
SUMMARY:Fall Bird Migration - Exploration and Observation
DESCRIPTION:Observe our feathered friends as they prepare to head south. Please bring binoculars.
URL:https://friendsofreadwildlifesanctuary.org/event/fall-bird-migration-exploration-and-observation/
CATEGORIES:Visitor Events
ATTACH;FMTTYPE=image/png:https://friendsofreadwildlifesanctuary.org/wp-content/uploads/2025/06/Screenshot-2025-06-30-at-2.36.25 PM.png
END:VEVENT
BEGIN:VEVENT
DTSTART;TZID=America/New_York:20250907T140000
DTEND;TZID=America/New_York:20250907T153000
DTSTAMP:20260423T201930
CREATED:20250630T181707Z
LAST-MODIFIED:20250630T181709Z
UID:10000082-1757253600-1757259000@friendsofreadwildlifesanctuary.org
SUMMARY:Geese: Guardians of the Wetlands
DESCRIPTION:We will discuss the biology\, habitat\, distribution\, behavior and social structures of geese\, followed by a hike to the wetland areas to observe them.
URL:https://friendsofreadwildlifesanctuary.org/event/geese-guardians-of-the-wetlands/
CATEGORIES:Visitor Events
ATTACH;FMTTYPE=image/webp:https://friendsofreadwildlifesanctuary.org/wp-content/uploads/2025/06/geese-scaled.webp
END:VEVENT
BEGIN:VEVENT
DTSTART;TZID=America/New_York:20250906T130000
DTEND;TZID=America/New_York:20250906T143000
DTSTAMP:20260423T201930
CREATED:20250630T181155Z
LAST-MODIFIED:20250630T181454Z
UID:10000081-1757163600-1757169000@friendsofreadwildlifesanctuary.org
SUMMARY:Volunteer Work Project: Spreading Woodchips Along Hiking Trails
DESCRIPTION:Continue the beautification of certain foot paths. Great for service credit hours. Please bring work gloves. Hand tools will be provided. Please register by Sunday\, August 31.
URL:https://friendsofreadwildlifesanctuary.org/event/volunteer-work-project-spreading-woodchips-along-hiking-trails/
CATEGORIES:Volunteer Events
ATTACH;FMTTYPE=image/webp:https://friendsofreadwildlifesanctuary.org/wp-content/uploads/2025/06/E.-Just-started-spreading-chips.-Hard-word-done.-Now-others-can-simply-spread-chips.-A-1-day-job-NO-MORE.webp
END:VEVENT
BEGIN:VEVENT
DTSTART;TZID=America/New_York:20250824T140000
DTEND;TZID=America/New_York:20250824T153000
DTSTAMP:20260423T201930
CREATED:20250630T180929Z
LAST-MODIFIED:20250630T180931Z
UID:10000080-1756044000-1756049400@friendsofreadwildlifesanctuary.org
SUMMARY:Adaptations and Ecological Impact of Wild Turkeys
DESCRIPTION:We will discuss the biological adaptations and behaviors of wild turkeys\, followed by an observational hike.
URL:https://friendsofreadwildlifesanctuary.org/event/adaptations-and-ecological-impact-of-wild-turkeys/
CATEGORIES:Visitor Events
ATTACH;FMTTYPE=image/webp:https://friendsofreadwildlifesanctuary.org/wp-content/uploads/2025/06/Turkeys.webp
END:VEVENT
BEGIN:VEVENT
DTSTART;TZID=America/New_York:20250803T140000
DTEND;TZID=America/New_York:20250803T153000
DTSTAMP:20260423T201930
CREATED:20250630T173126Z
LAST-MODIFIED:20250630T173129Z
UID:10000079-1754229600-1754235000@friendsofreadwildlifesanctuary.org
SUMMARY:The Fascinating World of Chipmunks
DESCRIPTION:We will discuss ways chipmunks survive in the wild through their biology\, behavior and reproductive strategies. We will then observe their behavior in the wild.
URL:https://friendsofreadwildlifesanctuary.org/event/the-fascinating-world-of-chipmunks/
CATEGORIES:Visitor Events
ATTACH;FMTTYPE=image/webp:https://friendsofreadwildlifesanctuary.org/wp-content/uploads/2025/06/chipmunk.webp
END:VEVENT
END:VCALENDAR