BEGIN:VCALENDAR
VERSION:2.0
PRODID:-//FRWS - ECPv6.15.17//NONSGML v1.0//EN
CALSCALE:GREGORIAN
METHOD:PUBLISH
X-ORIGINAL-URL:https://friendsofreadwildlifesanctuary.org
X-WR-CALDESC:Events for FRWS
REFRESH-INTERVAL;VALUE=DURATION:PT1H
X-Robots-Tag:noindex
X-PUBLISHED-TTL:PT1H
BEGIN:VTIMEZONE
TZID:America/New_York
BEGIN:DAYLIGHT
TZOFFSETFROM:-0500
TZOFFSETTO:-0400
TZNAME:EDT
DTSTART:20250309T070000
END:DAYLIGHT
BEGIN:STANDARD
TZOFFSETFROM:-0400
TZOFFSETTO:-0500
TZNAME:EST
DTSTART:20251102T060000
END:STANDARD
BEGIN:DAYLIGHT
TZOFFSETFROM:-0500
TZOFFSETTO:-0400
TZNAME:EDT
DTSTART:20260308T070000
END:DAYLIGHT
BEGIN:STANDARD
TZOFFSETFROM:-0400
TZOFFSETTO:-0500
TZNAME:EST
DTSTART:20261101T060000
END:STANDARD
BEGIN:DAYLIGHT
TZOFFSETFROM:-0500
TZOFFSETTO:-0400
TZNAME:EDT
DTSTART:20270314T070000
END:DAYLIGHT
BEGIN:STANDARD
TZOFFSETFROM:-0400
TZOFFSETTO:-0500
TZNAME:EST
DTSTART:20271107T060000
END:STANDARD
END:VTIMEZONE
BEGIN:VEVENT
DTSTART;TZID=America/New_York:20260509T100000
DTEND;TZID=America/New_York:20260509T113000
DTSTAMP:20260423T173224
CREATED:20260411T143447Z
LAST-MODIFIED:20260411T143448Z
UID:10000130-1778320800-1778326200@friendsofreadwildlifesanctuary.org
SUMMARY:Spring Birds on a Collective Feather
DESCRIPTION:Join us in the Visitor Center as we discuss the birds found at the sanctuary and view sample specimens. Then we will trek out to observe the birds and learn about their behavior. Please bring binoculars.
URL:https://friendsofreadwildlifesanctuary.org/event/spring-birds-on-a-collective-feather/
CATEGORIES:Visitor Events
ATTACH;FMTTYPE=image/jpeg:https://friendsofreadwildlifesanctuary.org/wp-content/uploads/2025/03/Yellow-Warbler-pair-at-nest-scaled.jpg
END:VEVENT
BEGIN:VEVENT
DTSTART;TZID=America/New_York:20260509T130000
DTEND;TZID=America/New_York:20260509T143000
DTSTAMP:20260423T173224
CREATED:20260411T143820Z
LAST-MODIFIED:20260411T144930Z
UID:10000131-1778331600-1778337000@friendsofreadwildlifesanctuary.org
SUMMARY:Volunteer Work Project- Planting around the Sanctuary Entrance 
DESCRIPTION:Help spruce up the entrance kiosk with seasonal plantings to welcome the summer weather. Please bring work gloves. Hand tools will be provided. Great for service credit hours.
URL:https://friendsofreadwildlifesanctuary.org/event/volunteer-work-project-planting-around-the-sanctuary-entrance/
CATEGORIES:Volunteer Events
ATTACH;FMTTYPE=image/jpeg:https://friendsofreadwildlifesanctuary.org/wp-content/uploads/2023/07/Sanctuary_Gardens.jpeg
END:VEVENT
BEGIN:VEVENT
DTSTART;TZID=America/New_York:20260530T130000
DTEND;TZID=America/New_York:20260530T143000
DTSTAMP:20260423T173224
CREATED:20260411T144602Z
LAST-MODIFIED:20260411T145151Z
UID:10000132-1780146000-1780151400@friendsofreadwildlifesanctuary.org
SUMMARY:Volunteer Work Project- Touch-up Painting around the Sanctuary
DESCRIPTION:Come help beautify some of our structures for the season. Please bring work gloves. Hand tools will be provided. Great for service credit hours.
URL:https://friendsofreadwildlifesanctuary.org/event/volunteer-work-project-touchup-painting-around-the-sanctuary/
CATEGORIES:Volunteer Events
ATTACH;FMTTYPE=image/png:https://friendsofreadwildlifesanctuary.org/wp-content/uploads/2026/04/Screenshot-2026-04-11-at-10.44.06-AM.png
END:VEVENT
BEGIN:VEVENT
DTSTART;TZID=America/New_York:20260613T130000
DTEND;TZID=America/New_York:20260613T143000
DTSTAMP:20260423T173224
CREATED:20260411T144813Z
LAST-MODIFIED:20260411T144814Z
UID:10000133-1781355600-1781361000@friendsofreadwildlifesanctuary.org
SUMMARY:Volunteer Work Project- Checking the hiking trails and portals
DESCRIPTION:Help clear the hiking trails and portals of debris to prepare for summer visitors. Please bring work gloves. Hand tools will be provided. Great for service credit hours.
URL:https://friendsofreadwildlifesanctuary.org/event/volunteer-work-project-checking-the-hiking-trails-and-portals/
CATEGORIES:Volunteer Events
ATTACH;FMTTYPE=image/jpeg:https://friendsofreadwildlifesanctuary.org/wp-content/uploads/2025/03/Volunteer-work.jpg
END:VEVENT
BEGIN:VEVENT
DTSTART;TZID=America/New_York:20261017T130000
DTEND;TZID=America/New_York:20261017T170000
DTSTAMP:20260423T173224
CREATED:20260415T014014Z
LAST-MODIFIED:20260415T014016Z
UID:10000134-1792242000-1792256400@friendsofreadwildlifesanctuary.org
SUMMARY:Spooktacular Oktoberfest
DESCRIPTION:The Spooktacular Oktoberfest is a festive fall celebration combining the fun of Halloween with the traditions of Oktoberfest. This family friendly event will feature live music\, food vendors\, kids’ games\, trick-or-treating and a haunted house.
URL:https://friendsofreadwildlifesanctuary.org/event/spooktacular-oktoberfest/
CATEGORIES:Visitor Events
END:VEVENT
END:VCALENDAR