BEGIN:VCALENDAR
VERSION:2.0
PRODID:-//FRWS - ECPv6.15.17//NONSGML v1.0//EN
CALSCALE:GREGORIAN
METHOD:PUBLISH
X-WR-CALNAME:FRWS
X-ORIGINAL-URL:https://friendsofreadwildlifesanctuary.org
X-WR-CALDESC:Events for FRWS
REFRESH-INTERVAL;VALUE=DURATION:PT1H
X-Robots-Tag:noindex
X-PUBLISHED-TTL:PT1H
BEGIN:VTIMEZONE
TZID:America/New_York
BEGIN:DAYLIGHT
TZOFFSETFROM:-0500
TZOFFSETTO:-0400
TZNAME:EDT
DTSTART:20250309T070000
END:DAYLIGHT
BEGIN:STANDARD
TZOFFSETFROM:-0400
TZOFFSETTO:-0500
TZNAME:EST
DTSTART:20251102T060000
END:STANDARD
BEGIN:DAYLIGHT
TZOFFSETFROM:-0500
TZOFFSETTO:-0400
TZNAME:EDT
DTSTART:20260308T070000
END:DAYLIGHT
BEGIN:STANDARD
TZOFFSETFROM:-0400
TZOFFSETTO:-0500
TZNAME:EST
DTSTART:20261101T060000
END:STANDARD
BEGIN:DAYLIGHT
TZOFFSETFROM:-0500
TZOFFSETTO:-0400
TZNAME:EDT
DTSTART:20270314T070000
END:DAYLIGHT
BEGIN:STANDARD
TZOFFSETFROM:-0400
TZOFFSETTO:-0500
TZNAME:EST
DTSTART:20271107T060000
END:STANDARD
END:VTIMEZONE
BEGIN:VEVENT
DTSTART;TZID=America/New_York:20260509T100000
DTEND;TZID=America/New_York:20260509T113000
DTSTAMP:20260423T124248
CREATED:20260411T143447Z
LAST-MODIFIED:20260411T143448Z
UID:10000130-1778320800-1778326200@friendsofreadwildlifesanctuary.org
SUMMARY:Spring Birds on a Collective Feather
DESCRIPTION:Join us in the Visitor Center as we discuss the birds found at the sanctuary and view sample specimens. Then we will trek out to observe the birds and learn about their behavior. Please bring binoculars.
URL:https://friendsofreadwildlifesanctuary.org/event/spring-birds-on-a-collective-feather/
CATEGORIES:Visitor Events
ATTACH;FMTTYPE=image/jpeg:https://friendsofreadwildlifesanctuary.org/wp-content/uploads/2025/03/Yellow-Warbler-pair-at-nest-scaled.jpg
END:VEVENT
BEGIN:VEVENT
DTSTART;TZID=America/New_York:20260509T130000
DTEND;TZID=America/New_York:20260509T143000
DTSTAMP:20260423T124248
CREATED:20260411T143820Z
LAST-MODIFIED:20260411T144930Z
UID:10000131-1778331600-1778337000@friendsofreadwildlifesanctuary.org
SUMMARY:Volunteer Work Project- Planting around the Sanctuary Entrance 
DESCRIPTION:Help spruce up the entrance kiosk with seasonal plantings to welcome the summer weather. Please bring work gloves. Hand tools will be provided. Great for service credit hours.
URL:https://friendsofreadwildlifesanctuary.org/event/volunteer-work-project-planting-around-the-sanctuary-entrance/
CATEGORIES:Volunteer Events
ATTACH;FMTTYPE=image/jpeg:https://friendsofreadwildlifesanctuary.org/wp-content/uploads/2023/07/Sanctuary_Gardens.jpeg
END:VEVENT
END:VCALENDAR