BEGIN:VCALENDAR
VERSION:2.0
PRODID:-//FRWS - ECPv6.15.17//NONSGML v1.0//EN
CALSCALE:GREGORIAN
METHOD:PUBLISH
X-ORIGINAL-URL:https://friendsofreadwildlifesanctuary.org
X-WR-CALDESC:Events for FRWS
REFRESH-INTERVAL;VALUE=DURATION:PT1H
X-Robots-Tag:noindex
X-PUBLISHED-TTL:PT1H
BEGIN:VTIMEZONE
TZID:America/New_York
BEGIN:DAYLIGHT
TZOFFSETFROM:-0500
TZOFFSETTO:-0400
TZNAME:EDT
DTSTART:20250309T070000
END:DAYLIGHT
BEGIN:STANDARD
TZOFFSETFROM:-0400
TZOFFSETTO:-0500
TZNAME:EST
DTSTART:20251102T060000
END:STANDARD
BEGIN:DAYLIGHT
TZOFFSETFROM:-0500
TZOFFSETTO:-0400
TZNAME:EDT
DTSTART:20260308T070000
END:DAYLIGHT
BEGIN:STANDARD
TZOFFSETFROM:-0400
TZOFFSETTO:-0500
TZNAME:EST
DTSTART:20261101T060000
END:STANDARD
BEGIN:DAYLIGHT
TZOFFSETFROM:-0500
TZOFFSETTO:-0400
TZNAME:EDT
DTSTART:20270314T070000
END:DAYLIGHT
BEGIN:STANDARD
TZOFFSETFROM:-0400
TZOFFSETTO:-0500
TZNAME:EST
DTSTART:20271107T060000
END:STANDARD
END:VTIMEZONE
BEGIN:VEVENT
DTSTART;TZID=America/New_York:20260307T080000
DTEND;TZID=America/New_York:20260307T100000
DTSTAMP:20260423T143411
CREATED:20260106T181853Z
LAST-MODIFIED:20260106T181853Z
UID:10000122-1772870400-1772877600@friendsofreadwildlifesanctuary.org
SUMMARY:Birding with the Audubon Society
DESCRIPTION:Join Anne Swaim\, Executive Director of Saw Mill River Audubon on a venture to observe birds that visit the Sanctuary. Meet near Playland Lake in the back of the main Playland parking lot.  Then\, continuing to Edith Read Sanctuary. Please bring binoculars. Registration is required. To register\, please visit: https://www.sawmillriveraudubon.org
URL:https://friendsofreadwildlifesanctuary.org/event/birding-with-the-audubon-society-5/
CATEGORIES:Partner Events
ATTACH;FMTTYPE=image/jpeg:https://friendsofreadwildlifesanctuary.org/wp-content/uploads/2026/01/cropped-SMRA-Logo-Square-TM-Jan2020-1.jpg
END:VEVENT
END:VCALENDAR