BEGIN:VCALENDAR
VERSION:2.0
PRODID:-//FRWS - ECPv6.15.17//NONSGML v1.0//EN
CALSCALE:GREGORIAN
METHOD:PUBLISH
X-ORIGINAL-URL:https://friendsofreadwildlifesanctuary.org
X-WR-CALDESC:Events for FRWS
REFRESH-INTERVAL;VALUE=DURATION:PT1H
X-Robots-Tag:noindex
X-PUBLISHED-TTL:PT1H
BEGIN:VTIMEZONE
TZID:America/New_York
BEGIN:DAYLIGHT
TZOFFSETFROM:-0500
TZOFFSETTO:-0400
TZNAME:EDT
DTSTART:20240310T070000
END:DAYLIGHT
BEGIN:STANDARD
TZOFFSETFROM:-0400
TZOFFSETTO:-0500
TZNAME:EST
DTSTART:20241103T060000
END:STANDARD
BEGIN:DAYLIGHT
TZOFFSETFROM:-0500
TZOFFSETTO:-0400
TZNAME:EDT
DTSTART:20250309T070000
END:DAYLIGHT
BEGIN:STANDARD
TZOFFSETFROM:-0400
TZOFFSETTO:-0500
TZNAME:EST
DTSTART:20251102T060000
END:STANDARD
BEGIN:DAYLIGHT
TZOFFSETFROM:-0500
TZOFFSETTO:-0400
TZNAME:EDT
DTSTART:20260308T070000
END:DAYLIGHT
BEGIN:STANDARD
TZOFFSETFROM:-0400
TZOFFSETTO:-0500
TZNAME:EST
DTSTART:20261101T060000
END:STANDARD
END:VTIMEZONE
BEGIN:VEVENT
DTSTART;TZID=America/New_York:20250329T100000
DTEND;TZID=America/New_York:20250329T113000
DTSTAMP:20260424T184830
CREATED:20241231T062116Z
LAST-MODIFIED:20241231T062118Z
UID:10000055-1743242400-1743247800@friendsofreadwildlifesanctuary.org
SUMMARY:Early Bird Migrants
DESCRIPTION:We will seek out some of the earlier warbler migrants\, as well as staying in tune with the backyard and aquatic birds. Please bring binoculars. Meet at Visitor Center.
URL:https://friendsofreadwildlifesanctuary.org/event/early-bird-migrants/
CATEGORIES:Visitor Events
ATTACH;FMTTYPE=image/jpeg:https://friendsofreadwildlifesanctuary.org/wp-content/uploads/2024/12/Early-Bird-Migrants.jpg
END:VEVENT
BEGIN:VEVENT
DTSTART;TZID=America/New_York:20250329T130000
DTEND;TZID=America/New_York:20250329T143000
DTSTAMP:20260424T184830
CREATED:20241231T062323Z
LAST-MODIFIED:20241231T062325Z
UID:10000056-1743253200-1743258600@friendsofreadwildlifesanctuary.org
SUMMARY:VOLUNTEER: Spreading Wood Chips
DESCRIPTION:Volunteer Opportunity! Come and help beautify some of our spaces along trails and trees. Great for service credit hours. Please bring work gloves\, if you have them. All other tools will be provided. Meet at Visitor Center.
URL:https://friendsofreadwildlifesanctuary.org/event/volunteer-spreading-wood-chips/
LOCATION:Edith Read Wildlife Sanctuary\, 1 Playland Parkway\, Rye\, NY\, 10580
CATEGORIES:Volunteer Events
ATTACH;FMTTYPE=image/jpeg:https://friendsofreadwildlifesanctuary.org/wp-content/uploads/2024/12/Volunteer-Spreading-Wood-Chips.jpg
END:VEVENT
END:VCALENDAR