BEGIN:VCALENDAR
VERSION:2.0
PRODID:-//FRWS - ECPv6.15.17//NONSGML v1.0//EN
CALSCALE:GREGORIAN
METHOD:PUBLISH
X-WR-CALNAME:FRWS
X-ORIGINAL-URL:https://friendsofreadwildlifesanctuary.org
X-WR-CALDESC:Events for FRWS
REFRESH-INTERVAL;VALUE=DURATION:PT1H
X-Robots-Tag:noindex
X-PUBLISHED-TTL:PT1H
BEGIN:VTIMEZONE
TZID:America/New_York
BEGIN:DAYLIGHT
TZOFFSETFROM:-0500
TZOFFSETTO:-0400
TZNAME:EDT
DTSTART:20230312T070000
END:DAYLIGHT
BEGIN:STANDARD
TZOFFSETFROM:-0400
TZOFFSETTO:-0500
TZNAME:EST
DTSTART:20231105T060000
END:STANDARD
BEGIN:DAYLIGHT
TZOFFSETFROM:-0500
TZOFFSETTO:-0400
TZNAME:EDT
DTSTART:20240310T070000
END:DAYLIGHT
BEGIN:STANDARD
TZOFFSETFROM:-0400
TZOFFSETTO:-0500
TZNAME:EST
DTSTART:20241103T060000
END:STANDARD
BEGIN:DAYLIGHT
TZOFFSETFROM:-0500
TZOFFSETTO:-0400
TZNAME:EDT
DTSTART:20250309T070000
END:DAYLIGHT
BEGIN:STANDARD
TZOFFSETFROM:-0400
TZOFFSETTO:-0500
TZNAME:EST
DTSTART:20251102T060000
END:STANDARD
END:VTIMEZONE
BEGIN:VEVENT
DTSTART;TZID=America/New_York:20241214T130000
DTEND;TZID=America/New_York:20241214T160000
DTSTAMP:20260424T232819
CREATED:20240930T045058Z
LAST-MODIFIED:20241025T185929Z
UID:10000026-1734181200-1734192000@friendsofreadwildlifesanctuary.org
SUMMARY:Photography and Art Exhibit Opening Reception
DESCRIPTION:Members and friends have shared with us their love for wildlife and nature by submitting photography and artwork. Come and view these special portraits in our Visitor Center. \n\n\n\nWe will have an opening reception from 1-4pm honoring the artistic talents of our members and friends.  Refreshments will be provided. Exhibit will be on display through January 25th\, 2025. \n\n\n\nIf you have a photograph you’d like to submit for this exhibit\, you can bring it at this time. Photographs must be framed and wired for hanging. One photograph per person please.\n\n\n\nQuestions? Contact: Scott Williamson\, sqw2@westchestergov.com   
URL:https://friendsofreadwildlifesanctuary.org/event/second-photography-and-art-exhibit-for-read-photography/
LOCATION:Edith Read Wildlife Sanctuary\, 1 Playland Parkway\, Rye\, NY\, 10580
CATEGORIES:Visitor Events
ATTACH;FMTTYPE=image/jpeg:https://friendsofreadwildlifesanctuary.org/wp-content/uploads/2024/09/394606690_704994238345549_7780569953242659081_n.jpg
END:VEVENT
END:VCALENDAR