BEGIN:VCALENDAR
VERSION:2.0
PRODID:-//FRWS - ECPv6.15.17//NONSGML v1.0//EN
CALSCALE:GREGORIAN
METHOD:PUBLISH
X-WR-CALNAME:FRWS
X-ORIGINAL-URL:https://friendsofreadwildlifesanctuary.org
X-WR-CALDESC:Events for FRWS
REFRESH-INTERVAL;VALUE=DURATION:PT1H
X-Robots-Tag:noindex
X-PUBLISHED-TTL:PT1H
BEGIN:VTIMEZONE
TZID:America/New_York
BEGIN:DAYLIGHT
TZOFFSETFROM:-0500
TZOFFSETTO:-0400
TZNAME:EDT
DTSTART:20230312T070000
END:DAYLIGHT
BEGIN:STANDARD
TZOFFSETFROM:-0400
TZOFFSETTO:-0500
TZNAME:EST
DTSTART:20231105T060000
END:STANDARD
BEGIN:DAYLIGHT
TZOFFSETFROM:-0500
TZOFFSETTO:-0400
TZNAME:EDT
DTSTART:20240310T070000
END:DAYLIGHT
BEGIN:STANDARD
TZOFFSETFROM:-0400
TZOFFSETTO:-0500
TZNAME:EST
DTSTART:20241103T060000
END:STANDARD
BEGIN:DAYLIGHT
TZOFFSETFROM:-0500
TZOFFSETTO:-0400
TZNAME:EDT
DTSTART:20250309T070000
END:DAYLIGHT
BEGIN:STANDARD
TZOFFSETFROM:-0400
TZOFFSETTO:-0500
TZNAME:EST
DTSTART:20251102T060000
END:STANDARD
END:VTIMEZONE
BEGIN:VEVENT
DTSTART;TZID=America/New_York:20241207T130000
DTEND;TZID=America/New_York:20241207T160000
DTSTAMP:20260424T232631
CREATED:20240930T042558Z
LAST-MODIFIED:20241025T185938Z
UID:10000025-1733576400-1733587200@friendsofreadwildlifesanctuary.org
SUMMARY:Submit Photography and Artwork for Read Photography Exhibit
DESCRIPTION:Submit photographs and other artwork of Wildlife and Natural Landscapes.  \n\n\n\nIt’s time for our annual art exhibit. Our curator Scott is hoping to fill the sanctuary nature center with photography and artwork from our members and friends. What’s your talent? Photography\, painting\, sculpture\, drawing? We’ll accept any medium! \n\n\n\nPlease stop by this Saturday and submit art of wildlife and natural landscapes. Photographs and artwork should be framed and wired for hanging. One photograph/art piece per person please. Share your talents and fill our visitor center with color! \n\n\n\nQuestions? Contact: Scott Williamson\, sqw2@westchestergov.com
URL:https://friendsofreadwildlifesanctuary.org/event/submit-photography-and-artwork-for-read-photography-exhibit/
LOCATION:Edith Read Wildlife Sanctuary\, 1 Playland Parkway\, Rye\, NY\, 10580
CATEGORIES:Visitor Events
ATTACH;FMTTYPE=image/jpeg:https://friendsofreadwildlifesanctuary.org/wp-content/uploads/2024/09/394580734_704954608349512_1564023984663582576_n.jpg
END:VEVENT
END:VCALENDAR