BEGIN:VCALENDAR
VERSION:2.0
PRODID:-//FRWS - ECPv6.15.17//NONSGML v1.0//EN
CALSCALE:GREGORIAN
METHOD:PUBLISH
X-ORIGINAL-URL:https://friendsofreadwildlifesanctuary.org
X-WR-CALDESC:Events for FRWS
REFRESH-INTERVAL;VALUE=DURATION:PT1H
X-Robots-Tag:noindex
X-PUBLISHED-TTL:PT1H
BEGIN:VTIMEZONE
TZID:America/New_York
BEGIN:DAYLIGHT
TZOFFSETFROM:-0500
TZOFFSETTO:-0400
TZNAME:EDT
DTSTART:20230312T070000
END:DAYLIGHT
BEGIN:STANDARD
TZOFFSETFROM:-0400
TZOFFSETTO:-0500
TZNAME:EST
DTSTART:20231105T060000
END:STANDARD
BEGIN:DAYLIGHT
TZOFFSETFROM:-0500
TZOFFSETTO:-0400
TZNAME:EDT
DTSTART:20240310T070000
END:DAYLIGHT
BEGIN:STANDARD
TZOFFSETFROM:-0400
TZOFFSETTO:-0500
TZNAME:EST
DTSTART:20241103T060000
END:STANDARD
BEGIN:DAYLIGHT
TZOFFSETFROM:-0500
TZOFFSETTO:-0400
TZNAME:EDT
DTSTART:20250309T070000
END:DAYLIGHT
BEGIN:STANDARD
TZOFFSETFROM:-0400
TZOFFSETTO:-0500
TZNAME:EST
DTSTART:20251102T060000
END:STANDARD
END:VTIMEZONE
BEGIN:VEVENT
DTSTART;TZID=America/New_York:20241206T110000
DTEND;TZID=America/New_York:20241206T133000
DTSTAMP:20260424T233034
CREATED:20241122T054135Z
LAST-MODIFIED:20241122T054902Z
UID:10000035-1733482800-1733491800@friendsofreadwildlifesanctuary.org
SUMMARY:Living Shoreline Tour
DESCRIPTION:Edith Read Living Shoreline Field Trip with NY Sea Grant \n\n\n\nDecember 6 @ 11:00am – 1:30pm \n\n\n\nJoin NY Sea Grant as they visit the newly constructed living shoreline at Edith Read Sanctuary in Rye\, New York. Project leaders from the Westchester County Planning and Parks Departments will guide a tour of the site and share behind-the-scenes project details. Lunch will follow where you will have the opportunity to engage in discussions with local nonprofit and community leaders. This field trip is part of a Community Resilience Project Showcase leading up to their 2024 Annual Sustainable and Resilient Communities Workshop on December 10 and 11.
URL:https://friendsofreadwildlifesanctuary.org/event/living-shoreline-tour/
LOCATION:Edith Read Wildlife Sanctuary\, 1 Playland Parkway\, Rye\, NY\, 10580
CATEGORIES:Partner Events
ATTACH;FMTTYPE=image/jpeg:https://friendsofreadwildlifesanctuary.org/wp-content/uploads/2024/09/IMG_1828.jpeg
END:VEVENT
END:VCALENDAR