BEGIN:VCALENDAR
VERSION:2.0
PRODID:-//FRWS - ECPv6.15.17//NONSGML v1.0//EN
CALSCALE:GREGORIAN
METHOD:PUBLISH
X-ORIGINAL-URL:https://friendsofreadwildlifesanctuary.org
X-WR-CALDESC:Events for FRWS
REFRESH-INTERVAL;VALUE=DURATION:PT1H
X-Robots-Tag:noindex
X-PUBLISHED-TTL:PT1H
BEGIN:VTIMEZONE
TZID:America/New_York
BEGIN:DAYLIGHT
TZOFFSETFROM:-0500
TZOFFSETTO:-0400
TZNAME:EDT
DTSTART:20230312T070000
END:DAYLIGHT
BEGIN:STANDARD
TZOFFSETFROM:-0400
TZOFFSETTO:-0500
TZNAME:EST
DTSTART:20231105T060000
END:STANDARD
BEGIN:DAYLIGHT
TZOFFSETFROM:-0500
TZOFFSETTO:-0400
TZNAME:EDT
DTSTART:20240310T070000
END:DAYLIGHT
BEGIN:STANDARD
TZOFFSETFROM:-0400
TZOFFSETTO:-0500
TZNAME:EST
DTSTART:20241103T060000
END:STANDARD
BEGIN:DAYLIGHT
TZOFFSETFROM:-0500
TZOFFSETTO:-0400
TZNAME:EDT
DTSTART:20250309T070000
END:DAYLIGHT
BEGIN:STANDARD
TZOFFSETFROM:-0400
TZOFFSETTO:-0500
TZNAME:EST
DTSTART:20251102T060000
END:STANDARD
END:VTIMEZONE
BEGIN:VEVENT
DTSTART;TZID=America/New_York:20241116T100000
DTEND;TZID=America/New_York:20241116T113000
DTSTAMP:20260425T090514
CREATED:20240930T020826Z
LAST-MODIFIED:20241025T190235Z
UID:10000021-1731751200-1731756600@friendsofreadwildlifesanctuary.org
SUMMARY:Winter Duck Migration Observation
DESCRIPTION:Come witness\, through a tripod scope\, the behavior and movements of these waterfowl visitors. Please bring binoculars if you have them. Meet at Visitor Center.
URL:https://friendsofreadwildlifesanctuary.org/event/winter-duck-migration-observation/
LOCATION:Edith Read Wildlife Sanctuary\, 1 Playland Parkway\, Rye\, NY\, 10580
CATEGORIES:Visitor Events
ATTACH;FMTTYPE=image/jpeg:https://friendsofreadwildlifesanctuary.org/wp-content/uploads/2024/09/https___cdn.evbuc_.com_images_208641089_274671705583_1_original.jpg
END:VEVENT
BEGIN:VEVENT
DTSTART;TZID=America/New_York:20241116T100000
DTEND;TZID=America/New_York:20241116T120000
DTSTAMP:20260425T090514
CREATED:20240930T053955Z
LAST-MODIFIED:20240930T053957Z
UID:10000032-1731751200-1731758400@friendsofreadwildlifesanctuary.org
SUMMARY:VOLUNTEER WORK PROJECT
DESCRIPTION:Removal of Invasive Vines from Various Shrubs and Trees in the Sanctuary \n\n\n\nWe will free various trees and shrubs of the climbing crazies. Proper removal techniques will be demonstrated. Please bring work gloves. All other tools will be provided. Meet at Visitor Center. \n\n\n\nQUESTIONS? Contact Scott 914-967-8720\, Sqw2@westchestercountyny.gov
URL:https://friendsofreadwildlifesanctuary.org/event/volunteer-work-project-4/
CATEGORIES:Volunteer Events
ATTACH;FMTTYPE=image/jpeg:https://friendsofreadwildlifesanctuary.org/wp-content/uploads/2023/07/Volunteers_7.jpg
END:VEVENT
BEGIN:VEVENT
DTSTART;TZID=America/New_York:20241116T130000
DTEND;TZID=America/New_York:20241116T143000
DTSTAMP:20260425T090514
CREATED:20240930T023208Z
LAST-MODIFIED:20241025T190215Z
UID:10000022-1731762000-1731767400@friendsofreadwildlifesanctuary.org
SUMMARY:Remember Fall Shelter Building
DESCRIPTION:It’s here again\, a popular program that brings people together by working together to create a structure in less than 2 hours! The kids will love it. Meet at Visitor Center. Dress for the woods!
URL:https://friendsofreadwildlifesanctuary.org/event/remember-fall-shelter-building/
LOCATION:Edith Read Wildlife Sanctuary\, 1 Playland Parkway\, Rye\, NY\, 10580
CATEGORIES:Visitor Events
ATTACH;FMTTYPE=image/jpeg:https://friendsofreadwildlifesanctuary.org/wp-content/uploads/2024/09/Shelter-Building-scaled.jpeg
END:VEVENT
END:VCALENDAR