BEGIN:VCALENDAR
VERSION:2.0
PRODID:-//FRWS - ECPv6.15.17//NONSGML v1.0//EN
CALSCALE:GREGORIAN
METHOD:PUBLISH
X-WR-CALNAME:FRWS
X-ORIGINAL-URL:https://friendsofreadwildlifesanctuary.org
X-WR-CALDESC:Events for FRWS
REFRESH-INTERVAL;VALUE=DURATION:PT1H
X-Robots-Tag:noindex
X-PUBLISHED-TTL:PT1H
BEGIN:VTIMEZONE
TZID:America/New_York
BEGIN:DAYLIGHT
TZOFFSETFROM:-0500
TZOFFSETTO:-0400
TZNAME:EDT
DTSTART:20230312T070000
END:DAYLIGHT
BEGIN:STANDARD
TZOFFSETFROM:-0400
TZOFFSETTO:-0500
TZNAME:EST
DTSTART:20231105T060000
END:STANDARD
BEGIN:DAYLIGHT
TZOFFSETFROM:-0500
TZOFFSETTO:-0400
TZNAME:EDT
DTSTART:20240310T070000
END:DAYLIGHT
BEGIN:STANDARD
TZOFFSETFROM:-0400
TZOFFSETTO:-0500
TZNAME:EST
DTSTART:20241103T060000
END:STANDARD
BEGIN:DAYLIGHT
TZOFFSETFROM:-0500
TZOFFSETTO:-0400
TZNAME:EDT
DTSTART:20250309T070000
END:DAYLIGHT
BEGIN:STANDARD
TZOFFSETFROM:-0400
TZOFFSETTO:-0500
TZNAME:EST
DTSTART:20251102T060000
END:STANDARD
END:VTIMEZONE
BEGIN:VEVENT
DTSTART;TZID=America/New_York:20241102T100000
DTEND;TZID=America/New_York:20241102T120000
DTSTAMP:20260425T090454
CREATED:20240930T052040Z
LAST-MODIFIED:20240930T052125Z
UID:10000029-1730541600-1730548800@friendsofreadwildlifesanctuary.org
SUMMARY:VOLUNTEER WORK PROJECT
DESCRIPTION:Cleanup and Prepare Compost Bin for Future Use. \n\n\n\nWe will cleanup\, add important ingredients and stir compost bin for use in gardening and landscaping. Please bring work gloves. All other tools will be provided. Meet at Visitor Center. \n\n\n\nQUESTIONS? Contact Scott 914-967-8720\, Sqw2@westchestercountyny.gov
URL:https://friendsofreadwildlifesanctuary.org/event/volunteer-work-project-2/
LOCATION:Edith Read Wildlife Sanctuary\, 1 Playland Parkway\, Rye\, NY\, 10580
CATEGORIES:Volunteer Events
ATTACH;FMTTYPE=image/jpeg:https://friendsofreadwildlifesanctuary.org/wp-content/uploads/2024/09/Compost.jpg
END:VEVENT
BEGIN:VEVENT
DTSTART;TZID=America/New_York:20241102T130000
DTEND;TZID=America/New_York:20241102T143000
DTSTAMP:20260425T090454
CREATED:20240929T231713Z
LAST-MODIFIED:20241025T190306Z
UID:10000017-1730552400-1730557800@friendsofreadwildlifesanctuary.org
SUMMARY:In Search of Clay
DESCRIPTION:We will harvest natural clay from habitats within the Sanctuary. You will be allowed to create items of your choice (pots\, animals\, etc.)\, and take them home with you. Meet at Visitor Center.
URL:https://friendsofreadwildlifesanctuary.org/event/in-search-of-clay/
LOCATION:Edith Read Wildlife Sanctuary\, 1 Playland Parkway\, Rye\, NY\, 10580
CATEGORIES:Visitor Events
ATTACH;FMTTYPE=image/jpeg:https://friendsofreadwildlifesanctuary.org/wp-content/uploads/2024/09/Clay.jpg
END:VEVENT
END:VCALENDAR